BEGIN:VCALENDAR
VERSION:2.0
PRODID:-//Anime HD - ECPv6.15.20//NONSGML v1.0//EN
CALSCALE:GREGORIAN
METHOD:PUBLISH
X-ORIGINAL-URL:https://anime-hd.fr
X-WR-CALDESC:Évènements pour Anime HD
REFRESH-INTERVAL;VALUE=DURATION:PT1H
X-Robots-Tag:noindex
X-PUBLISHED-TTL:PT1H
BEGIN:VTIMEZONE
TZID:Europe/Paris
BEGIN:DAYLIGHT
TZOFFSETFROM:+0100
TZOFFSETTO:+0200
TZNAME:CEST
DTSTART:20220327T010000
END:DAYLIGHT
BEGIN:STANDARD
TZOFFSETFROM:+0200
TZOFFSETTO:+0100
TZNAME:CET
DTSTART:20221030T010000
END:STANDARD
BEGIN:DAYLIGHT
TZOFFSETFROM:+0100
TZOFFSETTO:+0200
TZNAME:CEST
DTSTART:20230326T010000
END:DAYLIGHT
BEGIN:STANDARD
TZOFFSETFROM:+0200
TZOFFSETTO:+0100
TZNAME:CET
DTSTART:20231029T010000
END:STANDARD
BEGIN:DAYLIGHT
TZOFFSETFROM:+0100
TZOFFSETTO:+0200
TZNAME:CEST
DTSTART:20240331T010000
END:DAYLIGHT
BEGIN:STANDARD
TZOFFSETFROM:+0200
TZOFFSETTO:+0100
TZNAME:CET
DTSTART:20241027T010000
END:STANDARD
END:VTIMEZONE
BEGIN:VEVENT
DTSTART;VALUE=DATE:20230329
DTEND;VALUE=DATE:20230330
DTSTAMP:20260419T162628
CREATED:20230111T202954Z
LAST-MODIFIED:20230214T084519Z
UID:10779-1680048000-1680134399@anime-hd.fr
SUMMARY:One Piece Red- Edition Leclerc
DESCRIPTION:
URL:https://anime-hd.fr/event/one-piece-red-edition-leclerc/
CATEGORIES:Calendrier des sorties
END:VEVENT
BEGIN:VEVENT
DTSTART;VALUE=DATE:20230329
DTEND;VALUE=DATE:20230330
DTSTAMP:20260419T162628
CREATED:20230111T203005Z
LAST-MODIFIED:20230214T084525Z
UID:10778-1680048000-1680134399@anime-hd.fr
SUMMARY:One Piece Red
DESCRIPTION:
URL:https://anime-hd.fr/event/one-piece-red/
CATEGORIES:Calendrier des sorties
END:VEVENT
BEGIN:VEVENT
DTSTART;VALUE=DATE:20230329
DTEND;VALUE=DATE:20230330
DTSTAMP:20260419T162628
CREATED:20230111T203027Z
LAST-MODIFIED:20230214T084530Z
UID:10780-1680048000-1680134399@anime-hd.fr
SUMMARY:One Piece Red - Edition steelbook
DESCRIPTION:
URL:https://anime-hd.fr/event/one-piece-red-edition-steelbook/
CATEGORIES:Calendrier des sorties
END:VEVENT
BEGIN:VEVENT
DTSTART;VALUE=DATE:20230329
DTEND;VALUE=DATE:20230330
DTSTAMP:20260419T162628
CREATED:20230111T203132Z
LAST-MODIFIED:20230214T084536Z
UID:10781-1680048000-1680134399@anime-hd.fr
SUMMARY:One Piece Red - Edition steelbook Fnac
DESCRIPTION:
URL:https://anime-hd.fr/event/one-piece-red-edition-steelbook-fnac/
CATEGORIES:Calendrier des sorties
END:VEVENT
BEGIN:VEVENT
DTSTART;VALUE=DATE:20230329
DTEND;VALUE=DATE:20230330
DTSTAMP:20260419T162628
CREATED:20230111T203207Z
LAST-MODIFIED:20230214T084508Z
UID:10782-1680048000-1680134399@anime-hd.fr
SUMMARY:One Piece Red - Edition Cultura
DESCRIPTION:
URL:https://anime-hd.fr/event/one-piece-red-edition-cultura/
CATEGORIES:Calendrier des sorties
END:VEVENT
END:VCALENDAR