BEGIN:VCALENDAR
VERSION:2.0
PRODID:-//Anime HD - ECPv6.15.20//NONSGML v1.0//EN
CALSCALE:GREGORIAN
METHOD:PUBLISH
X-ORIGINAL-URL:https://anime-hd.fr
X-WR-CALDESC:Évènements pour Anime HD
REFRESH-INTERVAL;VALUE=DURATION:PT1H
X-Robots-Tag:noindex
X-PUBLISHED-TTL:PT1H
BEGIN:VTIMEZONE
TZID:Europe/Paris
BEGIN:DAYLIGHT
TZOFFSETFROM:+0100
TZOFFSETTO:+0200
TZNAME:CEST
DTSTART:20210328T010000
END:DAYLIGHT
BEGIN:STANDARD
TZOFFSETFROM:+0200
TZOFFSETTO:+0100
TZNAME:CET
DTSTART:20211031T010000
END:STANDARD
BEGIN:DAYLIGHT
TZOFFSETFROM:+0100
TZOFFSETTO:+0200
TZNAME:CEST
DTSTART:20220327T010000
END:DAYLIGHT
BEGIN:STANDARD
TZOFFSETFROM:+0200
TZOFFSETTO:+0100
TZNAME:CET
DTSTART:20221030T010000
END:STANDARD
BEGIN:DAYLIGHT
TZOFFSETFROM:+0100
TZOFFSETTO:+0200
TZNAME:CEST
DTSTART:20230326T010000
END:DAYLIGHT
BEGIN:STANDARD
TZOFFSETFROM:+0200
TZOFFSETTO:+0100
TZNAME:CET
DTSTART:20231029T010000
END:STANDARD
END:VTIMEZONE
BEGIN:VEVENT
DTSTART;VALUE=DATE:20220907
DTEND;VALUE=DATE:20220908
DTSTAMP:20260420T045641
CREATED:20220603T202357Z
LAST-MODIFIED:20221017T094130Z
UID:10314-1662508800-1662595199@anime-hd.fr
SUMMARY:One Piece - Arc Wano Box 3
DESCRIPTION:
URL:https://anime-hd.fr/event/one-piece-arc-wano-box-3/
CATEGORIES:Calendrier des sorties
END:VEVENT
BEGIN:VEVENT
DTSTART;VALUE=DATE:20220907
DTEND;VALUE=DATE:20220908
DTSTAMP:20260420T045641
CREATED:20220603T202403Z
LAST-MODIFIED:20221017T094130Z
UID:10315-1662508800-1662595199@anime-hd.fr
SUMMARY:One Piece - Arc Wano Box 4
DESCRIPTION:
URL:https://anime-hd.fr/event/one-piece-arc-wano-box-4/
CATEGORIES:Calendrier des sorties
END:VEVENT
BEGIN:VEVENT
DTSTART;VALUE=DATE:20220914
DTEND;VALUE=DATE:20220915
DTSTAMP:20260420T045641
CREATED:20220511T165439Z
LAST-MODIFIED:20221017T094130Z
UID:10210-1663113600-1663199999@anime-hd.fr
SUMMARY:One Piece - Pack des films Volume 3
DESCRIPTION:
URL:https://anime-hd.fr/event/one-piece-pack-des-films-volume-3/
CATEGORIES:Calendrier des sorties
END:VEVENT
BEGIN:VEVENT
DTSTART;VALUE=DATE:20220914
DTEND;VALUE=DATE:20220915
DTSTAMP:20260420T045641
CREATED:20220612T071528Z
LAST-MODIFIED:20221017T094130Z
UID:10235-1663113600-1663199999@anime-hd.fr
SUMMARY:Black Clover - Saison 2 - Partie 2/2
DESCRIPTION:
URL:https://anime-hd.fr/event/black-clover-saison-2-partie-2-2/
CATEGORIES:Calendrier des sorties
END:VEVENT
BEGIN:VEVENT
DTSTART;VALUE=DATE:20220920
DTEND;VALUE=DATE:20220921
DTSTAMP:20260420T045641
CREATED:20220309T191019Z
LAST-MODIFIED:20221017T094130Z
UID:9831-1663632000-1663718399@anime-hd.fr
SUMMARY:Mystérieuses Cités d'Or - Saison 1 - Réédition
DESCRIPTION:
URL:https://anime-hd.fr/event/mysterieuses-cites-dor-saison-1-reedition/
CATEGORIES:Calendrier des sorties
END:VEVENT
BEGIN:VEVENT
DTSTART;TZID=Europe/Paris:20220928T080000
DTEND;TZID=Europe/Paris:20220928T170000
DTSTAMP:20260420T045641
CREATED:20220726T120810Z
LAST-MODIFIED:20221017T094130Z
UID:10429-1664352000-1664384400@anime-hd.fr
SUMMARY:ID Invaded
DESCRIPTION:
URL:https://anime-hd.fr/event/id-invaded/
CATEGORIES:Calendrier des sorties
END:VEVENT
END:VCALENDAR