BEGIN:VCALENDAR
VERSION:2.0
PRODID:-//Anime HD - ECPv6.15.20//NONSGML v1.0//EN
CALSCALE:GREGORIAN
METHOD:PUBLISH
X-ORIGINAL-URL:https://anime-hd.fr
X-WR-CALDESC:Évènements pour Anime HD
REFRESH-INTERVAL;VALUE=DURATION:PT1H
X-Robots-Tag:noindex
X-PUBLISHED-TTL:PT1H
BEGIN:VTIMEZONE
TZID:Europe/Paris
BEGIN:DAYLIGHT
TZOFFSETFROM:+0100
TZOFFSETTO:+0200
TZNAME:CEST
DTSTART:20210328T010000
END:DAYLIGHT
BEGIN:STANDARD
TZOFFSETFROM:+0200
TZOFFSETTO:+0100
TZNAME:CET
DTSTART:20211031T010000
END:STANDARD
BEGIN:DAYLIGHT
TZOFFSETFROM:+0100
TZOFFSETTO:+0200
TZNAME:CEST
DTSTART:20220327T010000
END:DAYLIGHT
BEGIN:STANDARD
TZOFFSETFROM:+0200
TZOFFSETTO:+0100
TZNAME:CET
DTSTART:20221030T010000
END:STANDARD
BEGIN:DAYLIGHT
TZOFFSETFROM:+0100
TZOFFSETTO:+0200
TZNAME:CEST
DTSTART:20230326T010000
END:DAYLIGHT
BEGIN:STANDARD
TZOFFSETFROM:+0200
TZOFFSETTO:+0100
TZNAME:CET
DTSTART:20231029T010000
END:STANDARD
END:VTIMEZONE
BEGIN:VEVENT
DTSTART;VALUE=DATE:20220705
DTEND;VALUE=DATE:20220706
DTSTAMP:20260420T063039
CREATED:20220101T081517Z
LAST-MODIFIED:20221017T094113Z
UID:9708-1656979200-1657065599@anime-hd.fr
SUMMARY:Claymore
DESCRIPTION:
URL:https://anime-hd.fr/event/claymore/
CATEGORIES:Calendrier des sorties
END:VEVENT
BEGIN:VEVENT
DTSTART;VALUE=DATE:20220705
DTEND;VALUE=DATE:20220706
DTSTAMP:20260420T063039
CREATED:20220308T122012Z
LAST-MODIFIED:20221017T094113Z
UID:9818-1656979200-1657065599@anime-hd.fr
SUMMARY:Jujutsu Kaisen - Saison 1
DESCRIPTION:
URL:https://anime-hd.fr/event/jujutsu-kaisen-saison-1/
CATEGORIES:Calendrier des sorties
END:VEVENT
BEGIN:VEVENT
DTSTART;VALUE=DATE:20220706
DTEND;VALUE=DATE:20220707
DTSTAMP:20260420T063039
CREATED:20211211T113253Z
LAST-MODIFIED:20221017T094113Z
UID:9667-1657065600-1657151999@anime-hd.fr
SUMMARY:Violet Evergarden Le film Edition Collector Limitée Blu-ray 4K
DESCRIPTION:
URL:https://anime-hd.fr/event/violet-evergarden-le-film-edition-collector-limitee-blu-ray-4k/
CATEGORIES:Calendrier des sorties
END:VEVENT
BEGIN:VEVENT
DTSTART;VALUE=DATE:20220706
DTEND;VALUE=DATE:20220707
DTSTAMP:20260420T063039
CREATED:20220408T193055Z
LAST-MODIFIED:20221017T094113Z
UID:10121-1657065600-1657151999@anime-hd.fr
SUMMARY:Violet Evergarden le film
DESCRIPTION:
URL:https://anime-hd.fr/event/violet-evergarden-le-film/
CATEGORIES:Calendrier des sorties
END:VEVENT
BEGIN:VEVENT
DTSTART;VALUE=DATE:20220706
DTEND;VALUE=DATE:20220707
DTSTAMP:20260420T063039
CREATED:20220408T193229Z
LAST-MODIFIED:20221017T094113Z
UID:10123-1657065600-1657151999@anime-hd.fr
SUMMARY:One Piece - Arc Wano Box 1
DESCRIPTION:
URL:https://anime-hd.fr/event/one-piece-arc-wano-box-1/
CATEGORIES:Calendrier des sorties
END:VEVENT
BEGIN:VEVENT
DTSTART;VALUE=DATE:20220706
DTEND;VALUE=DATE:20220707
DTSTAMP:20260420T063039
CREATED:20220408T193246Z
LAST-MODIFIED:20221017T094113Z
UID:10124-1657065600-1657151999@anime-hd.fr
SUMMARY:One Piece - Arc Wano Box 2
DESCRIPTION:
URL:https://anime-hd.fr/event/one-piece-arc-wano-box-2/
CATEGORIES:Calendrier des sorties
END:VEVENT
BEGIN:VEVENT
DTSTART;VALUE=DATE:20220706
DTEND;VALUE=DATE:20220707
DTSTAMP:20260420T063039
CREATED:20220511T165223Z
LAST-MODIFIED:20221017T094113Z
UID:10206-1657065600-1657151999@anime-hd.fr
SUMMARY:One Piece - Pack des films Volume 1
DESCRIPTION:
URL:https://anime-hd.fr/event/one-piece-pack-des-films-volume-1/
CATEGORIES:Calendrier des sorties
END:VEVENT
BEGIN:VEVENT
DTSTART;VALUE=DATE:20220708
DTEND;VALUE=DATE:20220709
DTSTAMP:20260420T063039
CREATED:20220602T112557Z
LAST-MODIFIED:20221017T094113Z
UID:10287-1657238400-1657324799@anime-hd.fr
SUMMARY:Belle - Edition standard
DESCRIPTION:
URL:https://anime-hd.fr/event/belle-edition-standard/
CATEGORIES:Calendrier des sorties
END:VEVENT
BEGIN:VEVENT
DTSTART;VALUE=DATE:20220708
DTEND;VALUE=DATE:20220709
DTSTAMP:20260420T063039
CREATED:20220602T112743Z
LAST-MODIFIED:20221017T094113Z
UID:10288-1657238400-1657324799@anime-hd.fr
SUMMARY:Belle - Edition collector 4K
DESCRIPTION:
URL:https://anime-hd.fr/event/belle-edition-collector-4k/
CATEGORIES:Calendrier des sorties
END:VEVENT
BEGIN:VEVENT
DTSTART;VALUE=DATE:20220708
DTEND;VALUE=DATE:20220709
DTSTAMP:20260420T063039
CREATED:20220602T112832Z
LAST-MODIFIED:20221017T094113Z
UID:10292-1657238400-1657324799@anime-hd.fr
SUMMARY:Belle - Edition collector
DESCRIPTION:
URL:https://anime-hd.fr/event/belle-edition-collector/
CATEGORIES:Calendrier des sorties
END:VEVENT
BEGIN:VEVENT
DTSTART;VALUE=DATE:20220720
DTEND;VALUE=DATE:20220721
DTSTAMP:20260420T063039
CREATED:20220612T071513Z
LAST-MODIFIED:20221017T094113Z
UID:10233-1658275200-1658361599@anime-hd.fr
SUMMARY:Violet Evergarden - Edition standard
DESCRIPTION:
URL:https://anime-hd.fr/event/violet-evergarden-edition-standard/
CATEGORIES:Calendrier des sorties
END:VEVENT
BEGIN:VEVENT
DTSTART;VALUE=DATE:20220729
DTEND;VALUE=DATE:20220730
DTSTAMP:20260420T063039
CREATED:20220802T155549Z
LAST-MODIFIED:20221017T094113Z
UID:10190-1659052800-1659139199@anime-hd.fr
SUMMARY:Arion - Edition collector
DESCRIPTION:
URL:https://anime-hd.fr/event/arion-edition-collector/
CATEGORIES:Calendrier des sorties
END:VEVENT
BEGIN:VEVENT
DTSTART;VALUE=DATE:20220729
DTEND;VALUE=DATE:20220730
DTSTAMP:20260420T063039
CREATED:20220802T155600Z
LAST-MODIFIED:20221017T094113Z
UID:10192-1659052800-1659139199@anime-hd.fr
SUMMARY:Crusher Joe - Edition collector
DESCRIPTION:
URL:https://anime-hd.fr/event/crusher-joe-edition-collector/
CATEGORIES:Calendrier des sorties
END:VEVENT
BEGIN:VEVENT
DTSTART;VALUE=DATE:20220729
DTEND;VALUE=DATE:20220730
DTSTAMP:20260420T063039
CREATED:20220802T155607Z
LAST-MODIFIED:20221017T094113Z
UID:10194-1659052800-1659139199@anime-hd.fr
SUMMARY:Memories - Edition collector
DESCRIPTION:
URL:https://anime-hd.fr/event/memories-edition-collector/
CATEGORIES:Calendrier des sorties
END:VEVENT
END:VCALENDAR