BEGIN:VCALENDAR
VERSION:2.0
PRODID:-//Anime HD - ECPv6.15.20//NONSGML v1.0//EN
CALSCALE:GREGORIAN
METHOD:PUBLISH
X-ORIGINAL-URL:https://anime-hd.fr
X-WR-CALDESC:Évènements pour Anime HD
REFRESH-INTERVAL;VALUE=DURATION:PT1H
X-Robots-Tag:noindex
X-PUBLISHED-TTL:PT1H
BEGIN:VTIMEZONE
TZID:Europe/Paris
BEGIN:DAYLIGHT
TZOFFSETFROM:+0100
TZOFFSETTO:+0200
TZNAME:CEST
DTSTART:20210328T010000
END:DAYLIGHT
BEGIN:STANDARD
TZOFFSETFROM:+0200
TZOFFSETTO:+0100
TZNAME:CET
DTSTART:20211031T010000
END:STANDARD
BEGIN:DAYLIGHT
TZOFFSETFROM:+0100
TZOFFSETTO:+0200
TZNAME:CEST
DTSTART:20220327T010000
END:DAYLIGHT
BEGIN:STANDARD
TZOFFSETFROM:+0200
TZOFFSETTO:+0100
TZNAME:CET
DTSTART:20221030T010000
END:STANDARD
BEGIN:DAYLIGHT
TZOFFSETFROM:+0100
TZOFFSETTO:+0200
TZNAME:CEST
DTSTART:20230326T010000
END:DAYLIGHT
BEGIN:STANDARD
TZOFFSETFROM:+0200
TZOFFSETTO:+0100
TZNAME:CET
DTSTART:20231029T010000
END:STANDARD
END:VTIMEZONE
BEGIN:VEVENT
DTSTART;VALUE=DATE:20220601
DTEND;VALUE=DATE:20220602
DTSTAMP:20260420T080417
CREATED:20220331T151044Z
LAST-MODIFIED:20220525T070254Z
UID:9868-1654041600-1654127999@anime-hd.fr
SUMMARY:ACCA 13
DESCRIPTION:
URL:https://anime-hd.fr/event/acca-13/
CATEGORIES:Calendrier des sorties
END:VEVENT
BEGIN:VEVENT
DTSTART;VALUE=DATE:20220601
DTEND;VALUE=DATE:20220602
DTSTAMP:20260420T080417
CREATED:20220405T151524Z
LAST-MODIFIED:20220525T070241Z
UID:9989-1654041600-1654127999@anime-hd.fr
SUMMARY:Seraph of the End - Intégrale collector
DESCRIPTION:
URL:https://anime-hd.fr/event/seraph-of-the-end-integrale-collector/
CATEGORIES:Calendrier des sorties
END:VEVENT
BEGIN:VEVENT
DTSTART;VALUE=DATE:20220601
DTEND;VALUE=DATE:20220602
DTSTAMP:20260420T080417
CREATED:20220421T153514Z
LAST-MODIFIED:20220525T070241Z
UID:10167-1654041600-1654127999@anime-hd.fr
SUMMARY:Gleipnir - Intégrale saison 1
DESCRIPTION:
URL:https://anime-hd.fr/event/gleipnir-integrale-saison-1/
CATEGORIES:Calendrier des sorties
END:VEVENT
BEGIN:VEVENT
DTSTART;VALUE=DATE:20220608
DTEND;VALUE=DATE:20220609
DTSTAMP:20260420T080417
CREATED:20220408T182532Z
LAST-MODIFIED:20220525T070241Z
UID:10116-1654646400-1654732799@anime-hd.fr
SUMMARY:DUMBBELL : Combien tu peux soulever ?
DESCRIPTION:
URL:https://anime-hd.fr/event/dumbbell-combien-tu-peux-soulever/
CATEGORIES:Calendrier des sorties
END:VEVENT
BEGIN:VEVENT
DTSTART;VALUE=DATE:20220622
DTEND;VALUE=DATE:20220623
DTSTAMP:20260420T080417
CREATED:20220308T122057Z
LAST-MODIFIED:20220525T070241Z
UID:9819-1655856000-1655942399@anime-hd.fr
SUMMARY:Aya et la sorcière
DESCRIPTION:
URL:https://anime-hd.fr/event/aya-et-la-sorciere/
CATEGORIES:Calendrier des sorties
END:VEVENT
BEGIN:VEVENT
DTSTART;VALUE=DATE:20220622
DTEND;VALUE=DATE:20220623
DTSTAMP:20260420T080417
CREATED:20220319T213348Z
LAST-MODIFIED:20221017T094113Z
UID:9851-1655856000-1655942399@anime-hd.fr
SUMMARY:Souvenirs goutte à goutte
DESCRIPTION:
URL:https://anime-hd.fr/event/souvenirs-goutte-a-goutte/
CATEGORIES:Calendrier des sorties
END:VEVENT
BEGIN:VEVENT
DTSTART;VALUE=DATE:20220622
DTEND;VALUE=DATE:20220623
DTSTAMP:20260420T080417
CREATED:20220319T213512Z
LAST-MODIFIED:20221017T094113Z
UID:9853-1655856000-1655942399@anime-hd.fr
SUMMARY:Je peux entendre l'océan
DESCRIPTION:
URL:https://anime-hd.fr/event/je-peux-entendre-locean/
CATEGORIES:Calendrier des sorties
END:VEVENT
BEGIN:VEVENT
DTSTART;VALUE=DATE:20220629
DTEND;VALUE=DATE:20220630
DTSTAMP:20260420T080417
CREATED:20220408T161327Z
LAST-MODIFIED:20221017T094113Z
UID:10110-1656460800-1656547199@anime-hd.fr
SUMMARY:Heroïc Legend of Arslan - Edition Collector Intégrale Saison 1
DESCRIPTION:
URL:https://anime-hd.fr/event/heroic-legend-of-arslan-edition-collector-integrale-saison-1/
CATEGORIES:Calendrier des sorties
END:VEVENT
END:VCALENDAR