BEGIN:VCALENDAR
VERSION:2.0
PRODID:-//Anime HD - ECPv6.15.20//NONSGML v1.0//EN
CALSCALE:GREGORIAN
METHOD:PUBLISH
X-WR-CALNAME:Anime HD
X-ORIGINAL-URL:https://anime-hd.fr
X-WR-CALDESC:Évènements pour Anime HD
REFRESH-INTERVAL;VALUE=DURATION:PT1H
X-Robots-Tag:noindex
X-PUBLISHED-TTL:PT1H
BEGIN:VTIMEZONE
TZID:Europe/Paris
BEGIN:DAYLIGHT
TZOFFSETFROM:+0100
TZOFFSETTO:+0200
TZNAME:CEST
DTSTART:20210328T010000
END:DAYLIGHT
BEGIN:STANDARD
TZOFFSETFROM:+0200
TZOFFSETTO:+0100
TZNAME:CET
DTSTART:20211031T010000
END:STANDARD
BEGIN:DAYLIGHT
TZOFFSETFROM:+0100
TZOFFSETTO:+0200
TZNAME:CEST
DTSTART:20220327T010000
END:DAYLIGHT
BEGIN:STANDARD
TZOFFSETFROM:+0200
TZOFFSETTO:+0100
TZNAME:CET
DTSTART:20221030T010000
END:STANDARD
BEGIN:DAYLIGHT
TZOFFSETFROM:+0100
TZOFFSETTO:+0200
TZNAME:CEST
DTSTART:20230326T010000
END:DAYLIGHT
BEGIN:STANDARD
TZOFFSETFROM:+0200
TZOFFSETTO:+0100
TZNAME:CET
DTSTART:20231029T010000
END:STANDARD
END:VTIMEZONE
BEGIN:VEVENT
DTSTART;VALUE=DATE:20220503
DTEND;VALUE=DATE:20220504
DTSTAMP:20260420T094441
CREATED:20220120T110656Z
LAST-MODIFIED:20220525T070254Z
UID:9750-1651536000-1651622399@anime-hd.fr
SUMMARY:The Rising of the Shield Hero - Saison 1
DESCRIPTION:
URL:https://anime-hd.fr/event/the-rising-of-the-shield-hero-saison-1/
CATEGORIES:Calendrier des sorties
END:VEVENT
BEGIN:VEVENT
DTSTART;VALUE=DATE:20220511
DTEND;VALUE=DATE:20220512
DTSTAMP:20260420T094441
CREATED:20220311T193816Z
LAST-MODIFIED:20220525T070254Z
UID:9838-1652227200-1652313599@anime-hd.fr
SUMMARY:Card Captor Sakura Clear Card Arc
DESCRIPTION:
URL:https://anime-hd.fr/event/card-captor-sakura-clear-card-arc/
CATEGORIES:Calendrier des sorties
END:VEVENT
BEGIN:VEVENT
DTSTART;VALUE=DATE:20220523
DTEND;VALUE=DATE:20220524
DTSTAMP:20260420T094441
CREATED:20220426T134349Z
LAST-MODIFIED:20220525T070254Z
UID:10176-1653264000-1653350399@anime-hd.fr
SUMMARY:Conan\, le fils du Futur - Edition Collector 4K - Partie 1/2
DESCRIPTION:
URL:https://anime-hd.fr/event/conan-le-fils-du-futur-edition-collector-4k-partie-1-2/
CATEGORIES:Calendrier des sorties
END:VEVENT
BEGIN:VEVENT
DTSTART;VALUE=DATE:20220529
DTEND;VALUE=DATE:20220530
DTSTAMP:20260420T094441
CREATED:20220529T114954Z
LAST-MODIFIED:20230111T203352Z
UID:10280-1653782400-1653868799@anime-hd.fr
SUMMARY:AKIRA Edition Collector 4K Limitée
DESCRIPTION:
URL:https://anime-hd.fr/event/akira-edition-collector-4k-limitee/
CATEGORIES:Calendrier des sorties
END:VEVENT
END:VCALENDAR