BEGIN:VCALENDAR
VERSION:2.0
PRODID:-//Anime HD - ECPv6.15.20//NONSGML v1.0//EN
CALSCALE:GREGORIAN
METHOD:PUBLISH
X-ORIGINAL-URL:https://anime-hd.fr
X-WR-CALDESC:Évènements pour Anime HD
REFRESH-INTERVAL;VALUE=DURATION:PT1H
X-Robots-Tag:noindex
X-PUBLISHED-TTL:PT1H
BEGIN:VTIMEZONE
TZID:Europe/Paris
BEGIN:DAYLIGHT
TZOFFSETFROM:+0100
TZOFFSETTO:+0200
TZNAME:CEST
DTSTART:20210328T010000
END:DAYLIGHT
BEGIN:STANDARD
TZOFFSETFROM:+0200
TZOFFSETTO:+0100
TZNAME:CET
DTSTART:20211031T010000
END:STANDARD
BEGIN:DAYLIGHT
TZOFFSETFROM:+0100
TZOFFSETTO:+0200
TZNAME:CEST
DTSTART:20220327T010000
END:DAYLIGHT
BEGIN:STANDARD
TZOFFSETFROM:+0200
TZOFFSETTO:+0100
TZNAME:CET
DTSTART:20221030T010000
END:STANDARD
BEGIN:DAYLIGHT
TZOFFSETFROM:+0100
TZOFFSETTO:+0200
TZNAME:CEST
DTSTART:20230326T010000
END:DAYLIGHT
BEGIN:STANDARD
TZOFFSETFROM:+0200
TZOFFSETTO:+0100
TZNAME:CET
DTSTART:20231029T010000
END:STANDARD
END:VTIMEZONE
BEGIN:VEVENT
DTSTART;VALUE=DATE:20220406
DTEND;VALUE=DATE:20220407
DTSTAMP:20260420T113143
CREATED:20220219T120657Z
LAST-MODIFIED:20220525T070254Z
UID:9787-1649203200-1649289599@anime-hd.fr
SUMMARY:Mobile Suit Gundam Seed - Films
DESCRIPTION:
URL:https://anime-hd.fr/event/mobile-suit-gundam-seed-films/
CATEGORIES:Calendrier des sorties
END:VEVENT
BEGIN:VEVENT
DTSTART;VALUE=DATE:20220413
DTEND;VALUE=DATE:20220414
DTSTAMP:20260420T113143
CREATED:20220227T110947Z
LAST-MODIFIED:20220525T070254Z
UID:9795-1649808000-1649894399@anime-hd.fr
SUMMARY:Black Clover - Saison 2 - Partie 1/2
DESCRIPTION:
URL:https://anime-hd.fr/event/black-clover-saison-2-partie-1-2/
CATEGORIES:Calendrier des sorties
END:VEVENT
BEGIN:VEVENT
DTSTART;VALUE=DATE:20220414
DTEND;VALUE=DATE:20220415
DTSTAMP:20260420T113143
CREATED:20210529T095922Z
LAST-MODIFIED:20220525T070254Z
UID:9042-1649894400-1649980799@anime-hd.fr
SUMMARY:Berserk La Trilogie Steelbook
DESCRIPTION:
URL:https://anime-hd.fr/event/berserk-la-trilogie-steelbook/
CATEGORIES:Calendrier des sorties
END:VEVENT
BEGIN:VEVENT
DTSTART;VALUE=DATE:20220419
DTEND;VALUE=DATE:20220420
DTSTAMP:20260420T113143
CREATED:20220101T081110Z
LAST-MODIFIED:20220525T070254Z
UID:9705-1650326400-1650412799@anime-hd.fr
SUMMARY:Code Geass - Lelouch of the rebellion - Saison 1 - Réédition
DESCRIPTION:
URL:https://anime-hd.fr/event/code-geass-lelouch-of-the-rebellion-saison-1-reedition/
CATEGORIES:Calendrier des sorties
END:VEVENT
BEGIN:VEVENT
DTSTART;VALUE=DATE:20220419
DTEND;VALUE=DATE:20220420
DTSTAMP:20260420T113143
CREATED:20220101T081129Z
LAST-MODIFIED:20220525T070254Z
UID:9707-1650326400-1650412799@anime-hd.fr
SUMMARY:Code Geass - Lelouch of the rebellion - Saison 2 - Réédition
DESCRIPTION:
URL:https://anime-hd.fr/event/code-geass-lelouch-of-the-rebellion-saison-2-reedition/
CATEGORIES:Calendrier des sorties
END:VEVENT
BEGIN:VEVENT
DTSTART;VALUE=DATE:20220425
DTEND;VALUE=DATE:20220426
DTSTAMP:20260420T113143
CREATED:20200221T155239Z
LAST-MODIFIED:20220525T070254Z
UID:7752-1650844800-1650931199@anime-hd.fr
SUMMARY:Akira - Film - Edition limitée collector (30e Anniversaire) - Steelbook Heavy Metal
DESCRIPTION:
URL:https://anime-hd.fr/event/akira-film-edition-limitee-collector-30e-anniversaire-steelbook-heavy-metal/
CATEGORIES:Calendrier des sorties
END:VEVENT
BEGIN:VEVENT
DTSTART;VALUE=DATE:20220427
DTEND;VALUE=DATE:20220428
DTSTAMP:20260420T113143
CREATED:20220128T162316Z
LAST-MODIFIED:20220525T070254Z
UID:9760-1651017600-1651103999@anime-hd.fr
SUMMARY:L'Attaque des Titans - Saison Finale Partie 1 - Édition Collector
DESCRIPTION:
URL:https://anime-hd.fr/event/lattaque-des-titans-saison-finale-partie-1-edition-collector/
CATEGORIES:Calendrier des sorties
END:VEVENT
END:VCALENDAR