BEGIN:VCALENDAR
VERSION:2.0
PRODID:-//Anime HD - ECPv6.15.20//NONSGML v1.0//EN
CALSCALE:GREGORIAN
METHOD:PUBLISH
X-WR-CALNAME:Anime HD
X-ORIGINAL-URL:https://anime-hd.fr
X-WR-CALDESC:Évènements pour Anime HD
REFRESH-INTERVAL;VALUE=DURATION:PT1H
X-Robots-Tag:noindex
X-PUBLISHED-TTL:PT1H
BEGIN:VTIMEZONE
TZID:Europe/Paris
BEGIN:DAYLIGHT
TZOFFSETFROM:+0100
TZOFFSETTO:+0200
TZNAME:CEST
DTSTART:20200329T010000
END:DAYLIGHT
BEGIN:STANDARD
TZOFFSETFROM:+0200
TZOFFSETTO:+0100
TZNAME:CET
DTSTART:20201025T010000
END:STANDARD
BEGIN:DAYLIGHT
TZOFFSETFROM:+0100
TZOFFSETTO:+0200
TZNAME:CEST
DTSTART:20210328T010000
END:DAYLIGHT
BEGIN:STANDARD
TZOFFSETFROM:+0200
TZOFFSETTO:+0100
TZNAME:CET
DTSTART:20211031T010000
END:STANDARD
BEGIN:DAYLIGHT
TZOFFSETFROM:+0100
TZOFFSETTO:+0200
TZNAME:CEST
DTSTART:20220327T010000
END:DAYLIGHT
BEGIN:STANDARD
TZOFFSETFROM:+0200
TZOFFSETTO:+0100
TZNAME:CET
DTSTART:20221030T010000
END:STANDARD
END:VTIMEZONE
BEGIN:VEVENT
DTSTART;VALUE=DATE:20211005
DTEND;VALUE=DATE:20211006
DTSTAMP:20260420T212740
CREATED:20210710T075354Z
LAST-MODIFIED:20220525T070345Z
UID:9198-1633392000-1633478399@anime-hd.fr
SUMMARY:My Academia : Heroes Rising - Edition Steelbook
DESCRIPTION:
URL:https://anime-hd.fr/event/my-academia-heroes-rising-edition-steelbook/
CATEGORIES:Calendrier des sorties
END:VEVENT
BEGIN:VEVENT
DTSTART;VALUE=DATE:20211005
DTEND;VALUE=DATE:20211006
DTSTAMP:20260420T212740
CREATED:20210710T080914Z
LAST-MODIFIED:20220525T070334Z
UID:9202-1633392000-1633478399@anime-hd.fr
SUMMARY:City Hunter - Private Eyes - Edition Steelbook
DESCRIPTION:
URL:https://anime-hd.fr/event/city-hunter-private-eyes-edition-steelbook/
CATEGORIES:Calendrier des sorties
END:VEVENT
BEGIN:VEVENT
DTSTART;VALUE=DATE:20211005
DTEND;VALUE=DATE:20211006
DTSTAMP:20260420T212740
CREATED:20210710T080947Z
LAST-MODIFIED:20220525T070334Z
UID:9201-1633392000-1633478399@anime-hd.fr
SUMMARY:City Hunter - Private Eyes - Edition Collector
DESCRIPTION:
URL:https://anime-hd.fr/event/city-hunter-private-eyes-edition-collector/
CATEGORIES:Calendrier des sorties
END:VEVENT
BEGIN:VEVENT
DTSTART;VALUE=DATE:20211013
DTEND;VALUE=DATE:20211014
DTSTAMP:20260420T212740
CREATED:20210908T081838Z
LAST-MODIFIED:20220525T070334Z
UID:9185-1634083200-1634169599@anime-hd.fr
SUMMARY:Tom Sawyer - Réédition
DESCRIPTION:
URL:https://anime-hd.fr/event/tom-sawyer-reedition/
CATEGORIES:Calendrier des sorties
END:VEVENT
BEGIN:VEVENT
DTSTART;VALUE=DATE:20211013
DTEND;VALUE=DATE:20211014
DTSTAMP:20260420T212740
CREATED:20211007T080339Z
LAST-MODIFIED:20220525T070334Z
UID:9382-1634083200-1634169599@anime-hd.fr
SUMMARY:5 Centimeters per Second - Edition standard
DESCRIPTION:
URL:https://anime-hd.fr/event/5-centimeters-per-second-edition-standard/
CATEGORIES:Calendrier des sorties
END:VEVENT
BEGIN:VEVENT
DTSTART;VALUE=DATE:20211013
DTEND;VALUE=DATE:20211014
DTSTAMP:20260420T212740
CREATED:20211007T080341Z
LAST-MODIFIED:20220525T070334Z
UID:9383-1634083200-1634169599@anime-hd.fr
SUMMARY:Voyage vers Agartha - Edition standard
DESCRIPTION:
URL:https://anime-hd.fr/event/voyage-vers-agartha-edition-standard/
CATEGORIES:Calendrier des sorties
END:VEVENT
BEGIN:VEVENT
DTSTART;VALUE=DATE:20211015
DTEND;VALUE=DATE:20211016
DTSTAMP:20260420T212740
CREATED:20211015T165255Z
LAST-MODIFIED:20220525T070334Z
UID:9552-1634256000-1634342399@anime-hd.fr
SUMMARY:Fullmetal Alchemist La Série Originale - Blu ray standard
DESCRIPTION:
URL:https://anime-hd.fr/event/fullmetal-alchemist-la-serie-originale-blu-ray-standard/
CATEGORIES:Calendrier des sorties
END:VEVENT
BEGIN:VEVENT
DTSTART;VALUE=DATE:20211015
DTEND;VALUE=DATE:20211016
DTSTAMP:20260420T212740
CREATED:20211015T165304Z
LAST-MODIFIED:20220525T070334Z
UID:9551-1634256000-1634342399@anime-hd.fr
SUMMARY:Vision d'Escaflowne - Intégrale blu-ray standard
DESCRIPTION:
URL:https://anime-hd.fr/event/vision-descaflowne-integrale-blu-ray-standard/
CATEGORIES:Calendrier des sorties
END:VEVENT
BEGIN:VEVENT
DTSTART;VALUE=DATE:20211019
DTEND;VALUE=DATE:20211020
DTSTAMP:20260420T212740
CREATED:20210710T080211Z
LAST-MODIFIED:20220525T070334Z
UID:9200-1634601600-1634687999@anime-hd.fr
SUMMARY:Food wars ! - Saison 3
DESCRIPTION:
URL:https://anime-hd.fr/event/food-wars-saison-3/
CATEGORIES:Calendrier des sorties
END:VEVENT
BEGIN:VEVENT
DTSTART;VALUE=DATE:20211020
DTEND;VALUE=DATE:20211021
DTSTAMP:20260420T212740
CREATED:20210820T081759Z
LAST-MODIFIED:20220525T070334Z
UID:9364-1634688000-1634774399@anime-hd.fr
SUMMARY:Fire Force - Saison 2
DESCRIPTION:
URL:https://anime-hd.fr/event/fire-force-saison-2/
CATEGORIES:Calendrier des sorties
END:VEVENT
BEGIN:VEVENT
DTSTART;VALUE=DATE:20211027
DTEND;VALUE=DATE:20211028
DTSTAMP:20260420T212740
CREATED:20210831T072331Z
LAST-MODIFIED:20220525T070334Z
UID:9358-1635292800-1635379199@anime-hd.fr
SUMMARY:Zombie Land Saga - Saison 1
DESCRIPTION:
URL:https://anime-hd.fr/event/zombie-land-saga-saison-1/
CATEGORIES:Calendrier des sorties
END:VEVENT
END:VCALENDAR