BEGIN:VCALENDAR
VERSION:2.0
PRODID:-//Anime HD - ECPv6.15.20//NONSGML v1.0//EN
CALSCALE:GREGORIAN
METHOD:PUBLISH
X-WR-CALNAME:Anime HD
X-ORIGINAL-URL:https://anime-hd.fr
X-WR-CALDESC:Évènements pour Anime HD
REFRESH-INTERVAL;VALUE=DURATION:PT1H
X-Robots-Tag:noindex
X-PUBLISHED-TTL:PT1H
BEGIN:VTIMEZONE
TZID:Europe/Paris
BEGIN:DAYLIGHT
TZOFFSETFROM:+0100
TZOFFSETTO:+0200
TZNAME:CEST
DTSTART:20200329T010000
END:DAYLIGHT
BEGIN:STANDARD
TZOFFSETFROM:+0200
TZOFFSETTO:+0100
TZNAME:CET
DTSTART:20201025T010000
END:STANDARD
BEGIN:DAYLIGHT
TZOFFSETFROM:+0100
TZOFFSETTO:+0200
TZNAME:CEST
DTSTART:20210328T010000
END:DAYLIGHT
BEGIN:STANDARD
TZOFFSETFROM:+0200
TZOFFSETTO:+0100
TZNAME:CET
DTSTART:20211031T010000
END:STANDARD
BEGIN:DAYLIGHT
TZOFFSETFROM:+0100
TZOFFSETTO:+0200
TZNAME:CEST
DTSTART:20220327T010000
END:DAYLIGHT
BEGIN:STANDARD
TZOFFSETFROM:+0200
TZOFFSETTO:+0100
TZNAME:CET
DTSTART:20221030T010000
END:STANDARD
END:VTIMEZONE
BEGIN:VEVENT
DTSTART;VALUE=DATE:20210901
DTEND;VALUE=DATE:20210902
DTSTAMP:20260420T230515
CREATED:20210713T080648Z
LAST-MODIFIED:20220525T070345Z
UID:9249-1630454400-1630540799@anime-hd.fr
SUMMARY:Shinsekai Yori
DESCRIPTION:
URL:https://anime-hd.fr/event/shinsekai-yori/
CATEGORIES:Calendrier des sorties
END:VEVENT
BEGIN:VEVENT
DTSTART;VALUE=DATE:20210901
DTEND;VALUE=DATE:20210902
DTSTAMP:20260420T230515
CREATED:20210713T081127Z
LAST-MODIFIED:20220525T070345Z
UID:9250-1630454400-1630540799@anime-hd.fr
SUMMARY:Shirobako
DESCRIPTION:
URL:https://anime-hd.fr/event/shirobako/
CATEGORIES:Calendrier des sorties
END:VEVENT
BEGIN:VEVENT
DTSTART;VALUE=DATE:20210901
DTEND;VALUE=DATE:20210902
DTSTAMP:20260420T230515
CREATED:20210713T081643Z
LAST-MODIFIED:20220525T070345Z
UID:9251-1630454400-1630540799@anime-hd.fr
SUMMARY:Kingdom - Saison 2
DESCRIPTION:
URL:https://anime-hd.fr/event/kingdom-saison-2/
CATEGORIES:Calendrier des sorties
END:VEVENT
BEGIN:VEVENT
DTSTART;VALUE=DATE:20210907
DTEND;VALUE=DATE:20210908
DTSTAMP:20260420T230515
CREATED:20210128T090417Z
LAST-MODIFIED:20220525T070345Z
UID:8671-1630972800-1631059199@anime-hd.fr
SUMMARY:Dragon Ball Z: La Résurrection de F - Steelbook
DESCRIPTION:
URL:https://anime-hd.fr/event/dragon-ball-z-la-resurrection-de-f-steelbook/
CATEGORIES:Calendrier des sorties
END:VEVENT
BEGIN:VEVENT
DTSTART;VALUE=DATE:20210907
DTEND;VALUE=DATE:20210908
DTSTAMP:20260420T230515
CREATED:20210128T090535Z
LAST-MODIFIED:20220525T070345Z
UID:8673-1630972800-1631059199@anime-hd.fr
SUMMARY:Dragon Ball Z : Battle of Gods - Steelbook
DESCRIPTION:
URL:https://anime-hd.fr/event/dragon-ball-z-battle-of-gods-steelbook/
CATEGORIES:Calendrier des sorties
END:VEVENT
BEGIN:VEVENT
DTSTART;VALUE=DATE:20210907
DTEND;VALUE=DATE:20210908
DTSTAMP:20260420T230515
CREATED:20210128T090644Z
LAST-MODIFIED:20220525T070345Z
UID:8674-1630972800-1631059199@anime-hd.fr
SUMMARY:Dragon Ball Super Broly - Steelbook
DESCRIPTION:
URL:https://anime-hd.fr/event/dragon-ball-super-broly-steelbook/
CATEGORIES:Calendrier des sorties
END:VEVENT
BEGIN:VEVENT
DTSTART;VALUE=DATE:20210907
DTEND;VALUE=DATE:20210908
DTSTAMP:20260420T230515
CREATED:20210601T085140Z
LAST-MODIFIED:20220525T070345Z
UID:9084-1630972800-1631059199@anime-hd.fr
SUMMARY:JoJo’s Bizarre Adventure : Golden Wind\, Saison 4 Partie 2/2
DESCRIPTION:
URL:https://anime-hd.fr/event/jojos-bizarre-adventure-golden-wind-saison-4-partie-2-2/
CATEGORIES:Calendrier des sorties
END:VEVENT
BEGIN:VEVENT
DTSTART;VALUE=DATE:20210921
DTEND;VALUE=DATE:20210922
DTSTAMP:20260420T230515
CREATED:20210601T084727Z
LAST-MODIFIED:20220525T070345Z
UID:9083-1632182400-1632268799@anime-hd.fr
SUMMARY:Vinland Saga - Première saison
DESCRIPTION:
URL:https://anime-hd.fr/event/vinland-saga-premiere-saison/
CATEGORIES:Calendrier des sorties
END:VEVENT
BEGIN:VEVENT
DTSTART;VALUE=DATE:20210921
DTEND;VALUE=DATE:20210922
DTSTAMP:20260420T230515
CREATED:20210601T085315Z
LAST-MODIFIED:20220525T070345Z
UID:9085-1632182400-1632268799@anime-hd.fr
SUMMARY:Happy-go - Lucky Days
DESCRIPTION:
URL:https://anime-hd.fr/event/happy-go-lucky-days/
CATEGORIES:Calendrier des sorties
END:VEVENT
BEGIN:VEVENT
DTSTART;VALUE=DATE:20210922
DTEND;VALUE=DATE:20210923
DTSTAMP:20260420T230515
CREATED:20210622T142400Z
LAST-MODIFIED:20220525T070345Z
UID:9161-1632268800-1632355199@anime-hd.fr
SUMMARY:Saint Seiya - Les films
DESCRIPTION:
URL:https://anime-hd.fr/event/saint-seiya-les-films/
CATEGORIES:Calendrier des sorties
END:VEVENT
BEGIN:VEVENT
DTSTART;VALUE=DATE:20210922
DTEND;VALUE=DATE:20210923
DTSTAMP:20260420T230515
CREATED:20210715T142945Z
LAST-MODIFIED:20220525T070345Z
UID:9280-1632268800-1632355199@anime-hd.fr
SUMMARY:Saint Seiya - Les films - Edition steelbook
DESCRIPTION:
URL:https://anime-hd.fr/event/saint-seiya-les-films-edition-steelbook/
CATEGORIES:Calendrier des sorties
END:VEVENT
BEGIN:VEVENT
DTSTART;VALUE=DATE:20210922
DTEND;VALUE=DATE:20210923
DTSTAMP:20260420T230515
CREATED:20210716T082853Z
LAST-MODIFIED:20220525T070345Z
UID:9155-1632268800-1632355199@anime-hd.fr
SUMMARY:Fruits Basket - Saison 2
DESCRIPTION:
URL:https://anime-hd.fr/event/fruits-basket-saison-2/
CATEGORIES:Calendrier des sorties
END:VEVENT
BEGIN:VEVENT
DTSTART;VALUE=DATE:20210927
DTEND;VALUE=DATE:20210928
DTSTAMP:20260420T230515
CREATED:20210622T164342Z
LAST-MODIFIED:20220525T070345Z
UID:9151-1632700800-1632787199@anime-hd.fr
SUMMARY:Les Héros de la Galaxie : Die Neue These - Saison 1
DESCRIPTION:
URL:https://anime-hd.fr/event/les-heros-de-la-galaxie-die-neue-these-saison-1/
CATEGORIES:Calendrier des sorties
END:VEVENT
BEGIN:VEVENT
DTSTART;VALUE=DATE:20210929
DTEND;VALUE=DATE:20210930
DTSTAMP:20260420T230515
CREATED:20210618T163506Z
LAST-MODIFIED:20220525T070345Z
UID:9146-1632873600-1632959999@anime-hd.fr
SUMMARY:Deca-Dence - Edition Collector
DESCRIPTION:
URL:https://anime-hd.fr/event/deca-dence-edition-collector/
CATEGORIES:Calendrier des sorties
END:VEVENT
BEGIN:VEVENT
DTSTART;VALUE=DATE:20210929
DTEND;VALUE=DATE:20210930
DTSTAMP:20260420T230515
CREATED:20210813T162016Z
LAST-MODIFIED:20220525T070345Z
UID:9159-1632873600-1632959999@anime-hd.fr
SUMMARY:BUNGO STRAY DOGS - DEAD APPLE
DESCRIPTION:
URL:https://anime-hd.fr/event/bungo-stray-dogs-dead-apple/
CATEGORIES:Calendrier des sorties
END:VEVENT
END:VCALENDAR