BEGIN:VCALENDAR
VERSION:2.0
PRODID:-//Anime HD - ECPv6.15.20//NONSGML v1.0//EN
CALSCALE:GREGORIAN
METHOD:PUBLISH
X-ORIGINAL-URL:https://anime-hd.fr
X-WR-CALDESC:Évènements pour Anime HD
REFRESH-INTERVAL;VALUE=DURATION:PT1H
X-Robots-Tag:noindex
X-PUBLISHED-TTL:PT1H
BEGIN:VTIMEZONE
TZID:Europe/Paris
BEGIN:DAYLIGHT
TZOFFSETFROM:+0100
TZOFFSETTO:+0200
TZNAME:CEST
DTSTART:20200329T010000
END:DAYLIGHT
BEGIN:STANDARD
TZOFFSETFROM:+0200
TZOFFSETTO:+0100
TZNAME:CET
DTSTART:20201025T010000
END:STANDARD
BEGIN:DAYLIGHT
TZOFFSETFROM:+0100
TZOFFSETTO:+0200
TZNAME:CEST
DTSTART:20210328T010000
END:DAYLIGHT
BEGIN:STANDARD
TZOFFSETFROM:+0200
TZOFFSETTO:+0100
TZNAME:CET
DTSTART:20211031T010000
END:STANDARD
BEGIN:DAYLIGHT
TZOFFSETFROM:+0100
TZOFFSETTO:+0200
TZNAME:CEST
DTSTART:20220327T010000
END:DAYLIGHT
BEGIN:STANDARD
TZOFFSETFROM:+0200
TZOFFSETTO:+0100
TZNAME:CET
DTSTART:20221030T010000
END:STANDARD
END:VTIMEZONE
BEGIN:VEVENT
DTSTART;VALUE=DATE:20210706
DTEND;VALUE=DATE:20210707
DTSTAMP:20260421T021939
CREATED:20210402T073541Z
LAST-MODIFIED:20220405T205337Z
UID:8862-1625529600-1625615999@anime-hd.fr
SUMMARY:Dr Stone - Saison 1
DESCRIPTION:
URL:https://anime-hd.fr/event/dr-stone-saison-1/
CATEGORIES:Calendrier des sorties
END:VEVENT
BEGIN:VEVENT
DTSTART;VALUE=DATE:20210706
DTEND;VALUE=DATE:20210707
DTSTAMP:20260421T021939
CREATED:20210402T073650Z
LAST-MODIFIED:20220405T205337Z
UID:8841-1625529600-1625615999@anime-hd.fr
SUMMARY:Noblesse - Saison 1
DESCRIPTION:
URL:https://anime-hd.fr/event/noblesse-saison-1/
CATEGORIES:Calendrier des sorties
END:VEVENT
BEGIN:VEVENT
DTSTART;VALUE=DATE:20210707
DTEND;VALUE=DATE:20210708
DTSTAMP:20260421T021939
CREATED:20210401T080743Z
LAST-MODIFIED:20220405T205337Z
UID:8851-1625616000-1625702399@anime-hd.fr
SUMMARY:Amagi Brilliant Park
DESCRIPTION:
URL:https://anime-hd.fr/event/amagi-brilliant-park/
CATEGORIES:Calendrier des sorties
END:VEVENT
BEGIN:VEVENT
DTSTART;VALUE=DATE:20210707
DTEND;VALUE=DATE:20210708
DTSTAMP:20260421T021939
CREATED:20210529T100146Z
LAST-MODIFIED:20220405T205337Z
UID:9043-1625616000-1625702399@anime-hd.fr
SUMMARY:Space Battleship Yamato Box 2
DESCRIPTION:
URL:https://anime-hd.fr/event/space-battleship-yamato-box-2/
CATEGORIES:Calendrier des sorties
END:VEVENT
BEGIN:VEVENT
DTSTART;VALUE=DATE:20210707
DTEND;VALUE=DATE:20210708
DTSTAMP:20260421T021939
CREATED:20210622T153251Z
LAST-MODIFIED:20220405T205400Z
UID:9023-1625616000-1625702399@anime-hd.fr
SUMMARY:L'attaque des Titans - Film 3 : Le Rugissement de l'éveil
DESCRIPTION:
URL:https://anime-hd.fr/event/lattaque-des-titans-film-3-le-rugissement-de-leveil/
CATEGORIES:Calendrier des sorties
END:VEVENT
BEGIN:VEVENT
DTSTART;TZID=Europe/Paris:20210707T080000
DTEND;TZID=Europe/Paris:20210707T170000
DTSTAMP:20260421T021939
CREATED:20210521T160430Z
LAST-MODIFIED:20220405T205400Z
UID:9022-1625644800-1625677200@anime-hd.fr
SUMMARY:L'attaque des Titans Saison 3
DESCRIPTION:
URL:https://anime-hd.fr/event/lattaque-des-titans-saison-3/
CATEGORIES:Calendrier des sorties
END:VEVENT
END:VCALENDAR