BEGIN:VCALENDAR
VERSION:2.0
PRODID:-//Anime HD - ECPv6.15.20//NONSGML v1.0//EN
CALSCALE:GREGORIAN
METHOD:PUBLISH
X-WR-CALNAME:Anime HD
X-ORIGINAL-URL:https://anime-hd.fr
X-WR-CALDESC:Évènements pour Anime HD
REFRESH-INTERVAL;VALUE=DURATION:PT1H
X-Robots-Tag:noindex
X-PUBLISHED-TTL:PT1H
BEGIN:VTIMEZONE
TZID:Europe/Paris
BEGIN:DAYLIGHT
TZOFFSETFROM:+0100
TZOFFSETTO:+0200
TZNAME:CEST
DTSTART:20200329T010000
END:DAYLIGHT
BEGIN:STANDARD
TZOFFSETFROM:+0200
TZOFFSETTO:+0100
TZNAME:CET
DTSTART:20201025T010000
END:STANDARD
BEGIN:DAYLIGHT
TZOFFSETFROM:+0100
TZOFFSETTO:+0200
TZNAME:CEST
DTSTART:20210328T010000
END:DAYLIGHT
BEGIN:STANDARD
TZOFFSETFROM:+0200
TZOFFSETTO:+0100
TZNAME:CET
DTSTART:20211031T010000
END:STANDARD
BEGIN:DAYLIGHT
TZOFFSETFROM:+0100
TZOFFSETTO:+0200
TZNAME:CEST
DTSTART:20220327T010000
END:DAYLIGHT
BEGIN:STANDARD
TZOFFSETFROM:+0200
TZOFFSETTO:+0100
TZNAME:CET
DTSTART:20221030T010000
END:STANDARD
END:VTIMEZONE
BEGIN:VEVENT
DTSTART;VALUE=DATE:20210302
DTEND;VALUE=DATE:20210303
DTSTAMP:20260421T091146
CREATED:20200722T204754Z
LAST-MODIFIED:20220405T205318Z
UID:8186-1614643200-1614729599@anime-hd.fr
SUMMARY:JoJo's Bizarre Adventure : Golden Wind\, Saison 4 Partie 1/2
DESCRIPTION:
URL:https://anime-hd.fr/event/jojos-bizarre-adventure-golden-wind-saison-4-partie-1-2/
CATEGORIES:Calendrier des sorties
END:VEVENT
BEGIN:VEVENT
DTSTART;VALUE=DATE:20210316
DTEND;VALUE=DATE:20210317
DTSTAMP:20260421T091146
CREATED:20200804T071141Z
LAST-MODIFIED:20220405T205318Z
UID:8231-1615852800-1615939199@anime-hd.fr
SUMMARY:My Hero Academia Heroes Rising
DESCRIPTION:
URL:https://anime-hd.fr/event/my-hero-academia-heroes-rising/
CATEGORIES:Calendrier des sorties
END:VEVENT
BEGIN:VEVENT
DTSTART;VALUE=DATE:20210317
DTEND;VALUE=DATE:20210318
DTSTAMP:20260421T091146
CREATED:20210115T160655Z
LAST-MODIFIED:20220405T205318Z
UID:8607-1615939200-1616025599@anime-hd.fr
SUMMARY:Sword Art Online Saison 1 + OAV Extra
DESCRIPTION:
URL:https://anime-hd.fr/event/sword-art-online-saison-1-oav-extra/
CATEGORIES:Calendrier des sorties
END:VEVENT
BEGIN:VEVENT
DTSTART;VALUE=DATE:20210317
DTEND;VALUE=DATE:20210318
DTSTAMP:20260421T091146
CREATED:20210210T122830Z
LAST-MODIFIED:20220405T205318Z
UID:8666-1615939200-1616025599@anime-hd.fr
SUMMARY:Death March to The Parallel World Rhapsody - Edition collector
DESCRIPTION:
URL:https://anime-hd.fr/event/death-march-to-the-parallel-world-rhapsody-edition-collector/
CATEGORIES:Calendrier des sorties
END:VEVENT
BEGIN:VEVENT
DTSTART;VALUE=DATE:20210331
DTEND;VALUE=DATE:20210401
DTSTAMP:20260421T091146
CREATED:20200724T081610Z
LAST-MODIFIED:20220405T205318Z
UID:8168-1617148800-1617235199@anime-hd.fr
SUMMARY:Fire Force - Saison 1 - Edition collector
DESCRIPTION:
URL:https://anime-hd.fr/event/fire-force-saison-1-edition-collector/
CATEGORIES:Calendrier des sorties
END:VEVENT
BEGIN:VEVENT
DTSTART;VALUE=DATE:20210331
DTEND;VALUE=DATE:20210401
DTSTAMP:20260421T091146
CREATED:20200724T081614Z
LAST-MODIFIED:20220405T205317Z
UID:8167-1617148800-1617235199@anime-hd.fr
SUMMARY:Fruits Basket - Saison 1 - Edition collector
DESCRIPTION:
URL:https://anime-hd.fr/event/fruits-basket-saison-1-edition-collector/
CATEGORIES:Calendrier des sorties
END:VEVENT
END:VCALENDAR