BEGIN:VCALENDAR
VERSION:2.0
PRODID:-//Anime HD - ECPv6.15.20//NONSGML v1.0//EN
CALSCALE:GREGORIAN
METHOD:PUBLISH
X-ORIGINAL-URL:https://anime-hd.fr
X-WR-CALDESC:Évènements pour Anime HD
REFRESH-INTERVAL;VALUE=DURATION:PT1H
X-Robots-Tag:noindex
X-PUBLISHED-TTL:PT1H
BEGIN:VTIMEZONE
TZID:Europe/Paris
BEGIN:DAYLIGHT
TZOFFSETFROM:+0100
TZOFFSETTO:+0200
TZNAME:CEST
DTSTART:20200329T010000
END:DAYLIGHT
BEGIN:STANDARD
TZOFFSETFROM:+0200
TZOFFSETTO:+0100
TZNAME:CET
DTSTART:20201025T010000
END:STANDARD
BEGIN:DAYLIGHT
TZOFFSETFROM:+0100
TZOFFSETTO:+0200
TZNAME:CEST
DTSTART:20210328T010000
END:DAYLIGHT
BEGIN:STANDARD
TZOFFSETFROM:+0200
TZOFFSETTO:+0100
TZNAME:CET
DTSTART:20211031T010000
END:STANDARD
BEGIN:DAYLIGHT
TZOFFSETFROM:+0100
TZOFFSETTO:+0200
TZNAME:CEST
DTSTART:20220327T010000
END:DAYLIGHT
BEGIN:STANDARD
TZOFFSETFROM:+0200
TZOFFSETTO:+0100
TZNAME:CET
DTSTART:20221030T010000
END:STANDARD
END:VTIMEZONE
BEGIN:VEVENT
DTSTART;VALUE=DATE:20210105
DTEND;VALUE=DATE:20210106
DTSTAMP:20260423T115208
CREATED:20200929T110120Z
LAST-MODIFIED:20220405T205428Z
UID:8376-1609804800-1609891199@anime-hd.fr
SUMMARY:Nana - Edition standard
DESCRIPTION:
URL:https://anime-hd.fr/event/nana-edition-standard/
CATEGORIES:Calendrier des sorties
END:VEVENT
BEGIN:VEVENT
DTSTART;VALUE=DATE:20210113
DTEND;VALUE=DATE:20210114
DTSTAMP:20260423T115208
CREATED:20201119T100451Z
LAST-MODIFIED:20220405T205428Z
UID:8520-1610496000-1610582399@anime-hd.fr
SUMMARY:Après la pluie
DESCRIPTION:
URL:https://anime-hd.fr/event/apres-la-pluie/
CATEGORIES:Calendrier des sorties
END:VEVENT
BEGIN:VEVENT
DTSTART;VALUE=DATE:20210115
DTEND;VALUE=DATE:20210116
DTSTAMP:20260423T115208
CREATED:20200918T120602Z
LAST-MODIFIED:20220405T205428Z
UID:8306-1610668800-1610755199@anime-hd.fr
SUMMARY:Violet Evergarden - Intégrale collector
DESCRIPTION:
URL:https://anime-hd.fr/event/violet-evergarden-integrale-collector/
CATEGORIES:Calendrier des sorties
END:VEVENT
BEGIN:VEVENT
DTSTART;VALUE=DATE:20210115
DTEND;VALUE=DATE:20210116
DTSTAMP:20260423T115208
CREATED:20201026T182618Z
LAST-MODIFIED:20220405T205428Z
UID:8303-1610668800-1610755199@anime-hd.fr
SUMMARY:Mobile Suit Gundam NT - Edition collector
DESCRIPTION:
URL:https://anime-hd.fr/event/mobile-suit-gundam-nt-edition-collector/
CATEGORIES:Calendrier des sorties
END:VEVENT
BEGIN:VEVENT
DTSTART;VALUE=DATE:20210119
DTEND;VALUE=DATE:20210120
DTSTAMP:20260423T115208
CREATED:20201008T071425Z
LAST-MODIFIED:20220405T205428Z
UID:8397-1611014400-1611100799@anime-hd.fr
SUMMARY:Black Fox le film
DESCRIPTION:
URL:https://anime-hd.fr/event/black-fox-le-film/
CATEGORIES:Calendrier des sorties
END:VEVENT
BEGIN:VEVENT
DTSTART;VALUE=DATE:20210120
DTEND;VALUE=DATE:20210121
DTSTAMP:20260423T115208
CREATED:20201013T183007Z
LAST-MODIFIED:20220405T205428Z
UID:8424-1611100800-1611187199@anime-hd.fr
SUMMARY:Yuki\, Le secret de la montagne magique
DESCRIPTION:
URL:https://anime-hd.fr/event/yuki-le-secret-de-la-montagne/
CATEGORIES:Calendrier des sorties
END:VEVENT
BEGIN:VEVENT
DTSTART;VALUE=DATE:20210120
DTEND;VALUE=DATE:20210121
DTSTAMP:20260423T115208
CREATED:20201119T100336Z
LAST-MODIFIED:20220405T205428Z
UID:8519-1611100800-1611187199@anime-hd.fr
SUMMARY:Bloom into you
DESCRIPTION:
URL:https://anime-hd.fr/event/bloom-into-you/
CATEGORIES:Calendrier des sorties
END:VEVENT
BEGIN:VEVENT
DTSTART;VALUE=DATE:20210125
DTEND;VALUE=DATE:20210126
DTSTAMP:20260423T115208
CREATED:20201204T083512Z
LAST-MODIFIED:20220405T205428Z
UID:8553-1611532800-1611619199@anime-hd.fr
SUMMARY:Never-Ending Man : Hayao Miyazaki
DESCRIPTION:
URL:https://anime-hd.fr/event/never-ending-man-hayao-miyazaki/
CATEGORIES:Calendrier des sorties
END:VEVENT
BEGIN:VEVENT
DTSTART;VALUE=DATE:20210127
DTEND;VALUE=DATE:20210128
DTSTAMP:20260423T115208
CREATED:20201127T163406Z
LAST-MODIFIED:20220405T205428Z
UID:8173-1611705600-1611791999@anime-hd.fr
SUMMARY:Mobile Suit Zeta Gundam Partie 1 - Edition standard
DESCRIPTION:
URL:https://anime-hd.fr/event/mobile-suit-zeta-gundam-partie-1-edition-standard/
CATEGORIES:Calendrier des sorties
END:VEVENT
BEGIN:VEVENT
DTSTART;VALUE=DATE:20210127
DTEND;VALUE=DATE:20210128
DTSTAMP:20260423T115208
CREATED:20201127T163421Z
LAST-MODIFIED:20220405T205428Z
UID:8172-1611705600-1611791999@anime-hd.fr
SUMMARY:Mobile Suit Zeta Gundam Partie 2 - Edition standard
DESCRIPTION:
URL:https://anime-hd.fr/event/mobile-suit-zeta-gundam-partie-2-edition-standard/
CATEGORIES:Calendrier des sorties
END:VEVENT
END:VCALENDAR