BEGIN:VCALENDAR
VERSION:2.0
PRODID:-//Anime HD - ECPv6.15.20//NONSGML v1.0//EN
CALSCALE:GREGORIAN
METHOD:PUBLISH
X-ORIGINAL-URL:https://anime-hd.fr
X-WR-CALDESC:Évènements pour Anime HD
REFRESH-INTERVAL;VALUE=DURATION:PT1H
X-Robots-Tag:noindex
X-PUBLISHED-TTL:PT1H
BEGIN:VTIMEZONE
TZID:Europe/Paris
BEGIN:DAYLIGHT
TZOFFSETFROM:+0100
TZOFFSETTO:+0200
TZNAME:CEST
DTSTART:20220327T010000
END:DAYLIGHT
BEGIN:STANDARD
TZOFFSETFROM:+0200
TZOFFSETTO:+0100
TZNAME:CET
DTSTART:20221030T010000
END:STANDARD
BEGIN:DAYLIGHT
TZOFFSETFROM:+0100
TZOFFSETTO:+0200
TZNAME:CEST
DTSTART:20230326T010000
END:DAYLIGHT
BEGIN:STANDARD
TZOFFSETFROM:+0200
TZOFFSETTO:+0100
TZNAME:CET
DTSTART:20231029T010000
END:STANDARD
BEGIN:DAYLIGHT
TZOFFSETFROM:+0100
TZOFFSETTO:+0200
TZNAME:CEST
DTSTART:20240331T010000
END:DAYLIGHT
BEGIN:STANDARD
TZOFFSETFROM:+0200
TZOFFSETTO:+0100
TZNAME:CET
DTSTART:20241027T010000
END:STANDARD
END:VTIMEZONE
BEGIN:VEVENT
DTSTART;VALUE=DATE:20230718
DTEND;VALUE=DATE:20230719
DTSTAMP:20260421T102533
CREATED:20230405T065928Z
LAST-MODIFIED:20230405T104232Z
UID:10934-1689638400-1689724799@anime-hd.fr
SUMMARY:The Greatest Demon Lord Is Reborn As A Typical Nobody
DESCRIPTION:
URL:https://anime-hd.fr/event/the-greatest-demon-lord-is-reborn-as-a-typical-nobody/
CATEGORIES:Calendrier des sorties
END:VEVENT
BEGIN:VEVENT
DTSTART;VALUE=DATE:20230718
DTEND;VALUE=DATE:20230719
DTSTAMP:20260421T102533
CREATED:20230405T070052Z
LAST-MODIFIED:20230405T104232Z
UID:10933-1689638400-1689724799@anime-hd.fr
SUMMARY:Trapped In A Dating Sim - The World Of Otome Games Is Tough For Mobs
DESCRIPTION:
URL:https://anime-hd.fr/event/trapped-in-a-dating-sim-the-world-of-otome-games-is-tough-for-mobs/
CATEGORIES:Calendrier des sorties
END:VEVENT
END:VCALENDAR