BEGIN:VCALENDAR
VERSION:2.0
PRODID:-//Anime HD - ECPv6.15.20//NONSGML v1.0//EN
CALSCALE:GREGORIAN
METHOD:PUBLISH
X-ORIGINAL-URL:https://anime-hd.fr
X-WR-CALDESC:Évènements pour Anime HD
REFRESH-INTERVAL;VALUE=DURATION:PT1H
X-Robots-Tag:noindex
X-PUBLISHED-TTL:PT1H
BEGIN:VTIMEZONE
TZID:Europe/Paris
BEGIN:DAYLIGHT
TZOFFSETFROM:+0100
TZOFFSETTO:+0200
TZNAME:CEST
DTSTART:20220327T010000
END:DAYLIGHT
BEGIN:STANDARD
TZOFFSETFROM:+0200
TZOFFSETTO:+0100
TZNAME:CET
DTSTART:20221030T010000
END:STANDARD
BEGIN:DAYLIGHT
TZOFFSETFROM:+0100
TZOFFSETTO:+0200
TZNAME:CEST
DTSTART:20230326T010000
END:DAYLIGHT
BEGIN:STANDARD
TZOFFSETFROM:+0200
TZOFFSETTO:+0100
TZNAME:CET
DTSTART:20231029T010000
END:STANDARD
BEGIN:DAYLIGHT
TZOFFSETFROM:+0100
TZOFFSETTO:+0200
TZNAME:CEST
DTSTART:20240331T010000
END:DAYLIGHT
BEGIN:STANDARD
TZOFFSETFROM:+0200
TZOFFSETTO:+0100
TZNAME:CET
DTSTART:20241027T010000
END:STANDARD
END:VTIMEZONE
BEGIN:VEVENT
DTSTART;VALUE=DATE:20230704
DTEND;VALUE=DATE:20230705
DTSTAMP:20260421T102411
CREATED:20230202T231218Z
LAST-MODIFIED:20230427T102242Z
UID:10832-1688428800-1688515199@anime-hd.fr
SUMMARY:Dragon Ball Super - Super Hero
DESCRIPTION:
URL:https://anime-hd.fr/event/dragon-ball-super-super-hero/
CATEGORIES:Calendrier des sorties
END:VEVENT
BEGIN:VEVENT
DTSTART;VALUE=DATE:20230704
DTEND;VALUE=DATE:20230705
DTSTAMP:20260421T102411
CREATED:20230202T231249Z
LAST-MODIFIED:20230427T102246Z
UID:10834-1688428800-1688515199@anime-hd.fr
SUMMARY:Dragon Ball Super - Super Hero Steelbook
DESCRIPTION:
URL:https://anime-hd.fr/event/dragon-ball-super-super-hero-steelbook/
CATEGORIES:Calendrier des sorties
END:VEVENT
BEGIN:VEVENT
DTSTART;VALUE=DATE:20230704
DTEND;VALUE=DATE:20230705
DTSTAMP:20260421T102411
CREATED:20230405T065721Z
LAST-MODIFIED:20230405T104232Z
UID:10935-1688428800-1688515199@anime-hd.fr
SUMMARY:Platinum End Partie 2/2
DESCRIPTION:
URL:https://anime-hd.fr/event/platinum-end-partie-2-2/
CATEGORIES:Calendrier des sorties
END:VEVENT
BEGIN:VEVENT
DTSTART;VALUE=DATE:20230704
DTEND;VALUE=DATE:20230705
DTSTAMP:20260421T102411
CREATED:20230405T070126Z
LAST-MODIFIED:20230405T104232Z
UID:10932-1688428800-1688515199@anime-hd.fr
SUMMARY:The Dawn Of The Witch
DESCRIPTION:
URL:https://anime-hd.fr/event/the-dawn-of-the-witch/
CATEGORIES:Calendrier des sorties
END:VEVENT
END:VCALENDAR