BEGIN:VCALENDAR
VERSION:2.0
PRODID:-//Anime HD - ECPv6.15.20//NONSGML v1.0//EN
CALSCALE:GREGORIAN
METHOD:PUBLISH
X-WR-CALNAME:Anime HD
X-ORIGINAL-URL:https://anime-hd.fr
X-WR-CALDESC:Évènements pour Anime HD
REFRESH-INTERVAL;VALUE=DURATION:PT1H
X-Robots-Tag:noindex
X-PUBLISHED-TTL:PT1H
BEGIN:VTIMEZONE
TZID:Europe/Paris
BEGIN:DAYLIGHT
TZOFFSETFROM:+0100
TZOFFSETTO:+0200
TZNAME:CEST
DTSTART:20210328T010000
END:DAYLIGHT
BEGIN:STANDARD
TZOFFSETFROM:+0200
TZOFFSETTO:+0100
TZNAME:CET
DTSTART:20211031T010000
END:STANDARD
BEGIN:DAYLIGHT
TZOFFSETFROM:+0100
TZOFFSETTO:+0200
TZNAME:CEST
DTSTART:20220327T010000
END:DAYLIGHT
BEGIN:STANDARD
TZOFFSETFROM:+0200
TZOFFSETTO:+0100
TZNAME:CET
DTSTART:20221030T010000
END:STANDARD
BEGIN:DAYLIGHT
TZOFFSETFROM:+0100
TZOFFSETTO:+0200
TZNAME:CEST
DTSTART:20230326T010000
END:DAYLIGHT
BEGIN:STANDARD
TZOFFSETFROM:+0200
TZOFFSETTO:+0100
TZNAME:CET
DTSTART:20231029T010000
END:STANDARD
END:VTIMEZONE
BEGIN:VEVENT
DTSTART;VALUE=DATE:20220816
DTEND;VALUE=DATE:20220817
DTSTAMP:20260420T062859
CREATED:20220729T101322Z
LAST-MODIFIED:20221017T094113Z
UID:10437-1660608000-1660694399@anime-hd.fr
SUMMARY:DanMachi: Familia Myth - Saison 2 - Edition Collector
DESCRIPTION:
URL:https://anime-hd.fr/event/danmachi-familia-myth-saison-2-edition-collector/
CATEGORIES:Calendrier des sorties
END:VEVENT
BEGIN:VEVENT
DTSTART;VALUE=DATE:20220816
DTEND;VALUE=DATE:20220817
DTSTAMP:20260420T062859
CREATED:20220729T101457Z
LAST-MODIFIED:20221017T094130Z
UID:10439-1660608000-1660694399@anime-hd.fr
SUMMARY:DanMachi: Familia Myth - Film : Arrow of the Orion - Collector
DESCRIPTION:
URL:https://anime-hd.fr/event/danmachi-familia-myth-film-arrow-of-the-orion-collector/
CATEGORIES:Calendrier des sorties
END:VEVENT
BEGIN:VEVENT
DTSTART;VALUE=DATE:20220816
DTEND;VALUE=DATE:20220817
DTSTAMP:20260420T062859
CREATED:20220729T101601Z
LAST-MODIFIED:20221017T094130Z
UID:10440-1660608000-1660694399@anime-hd.fr
SUMMARY:Hellsing Ultimate - Intégrale - Edition Collector Limitée A4
DESCRIPTION:
URL:https://anime-hd.fr/event/hellsing-ultimate-integrale-edition-collector-limitee-a4/
CATEGORIES:Calendrier des sorties
END:VEVENT
END:VCALENDAR