BEGIN:VCALENDAR
VERSION:2.0
PRODID:-//Anime HD - ECPv6.15.20//NONSGML v1.0//EN
CALSCALE:GREGORIAN
METHOD:PUBLISH
X-ORIGINAL-URL:https://anime-hd.fr
X-WR-CALDESC:Évènements pour Anime HD
REFRESH-INTERVAL;VALUE=DURATION:PT1H
X-Robots-Tag:noindex
X-PUBLISHED-TTL:PT1H
BEGIN:VTIMEZONE
TZID:Europe/Paris
BEGIN:DAYLIGHT
TZOFFSETFROM:+0100
TZOFFSETTO:+0200
TZNAME:CEST
DTSTART:20200329T010000
END:DAYLIGHT
BEGIN:STANDARD
TZOFFSETFROM:+0200
TZOFFSETTO:+0100
TZNAME:CET
DTSTART:20201025T010000
END:STANDARD
BEGIN:DAYLIGHT
TZOFFSETFROM:+0100
TZOFFSETTO:+0200
TZNAME:CEST
DTSTART:20210328T010000
END:DAYLIGHT
BEGIN:STANDARD
TZOFFSETFROM:+0200
TZOFFSETTO:+0100
TZNAME:CET
DTSTART:20211031T010000
END:STANDARD
BEGIN:DAYLIGHT
TZOFFSETFROM:+0100
TZOFFSETTO:+0200
TZNAME:CEST
DTSTART:20220327T010000
END:DAYLIGHT
BEGIN:STANDARD
TZOFFSETFROM:+0200
TZOFFSETTO:+0100
TZNAME:CET
DTSTART:20221030T010000
END:STANDARD
END:VTIMEZONE
BEGIN:VEVENT
DTSTART;VALUE=DATE:20211124
DTEND;VALUE=DATE:20211125
DTSTAMP:20260420T213744
CREATED:20210816T150925Z
LAST-MODIFIED:20220525T070334Z
UID:9353-1637712000-1637798399@anime-hd.fr
SUMMARY:Sword Art Online: Alicization - War of Underworld - Box 1/2 - Edition Collector
DESCRIPTION:
URL:https://anime-hd.fr/event/sword-art-online-alicization-war-of-underworld-box-1-2-edition-collector/
CATEGORIES:Calendrier des sorties
END:VEVENT
BEGIN:VEVENT
DTSTART;VALUE=DATE:20211124
DTEND;VALUE=DATE:20211125
DTSTAMP:20260420T213744
CREATED:20210914T073445Z
LAST-MODIFIED:20220525T070334Z
UID:9435-1637712000-1637798399@anime-hd.fr
SUMMARY:Le Conte de la Princesse Kaguya
DESCRIPTION:
URL:https://anime-hd.fr/event/le-conte-de-la-princesse-kaguya/
CATEGORIES:Calendrier des sorties
END:VEVENT
BEGIN:VEVENT
DTSTART;VALUE=DATE:20211124
DTEND;VALUE=DATE:20211125
DTSTAMP:20260420T213744
CREATED:20210914T073510Z
LAST-MODIFIED:20220525T070334Z
UID:9438-1637712000-1637798399@anime-hd.fr
SUMMARY:Mes voisins Les Yamada
DESCRIPTION:
URL:https://anime-hd.fr/event/mes-voisins-les-yamada/
CATEGORIES:Calendrier des sorties
END:VEVENT
BEGIN:VEVENT
DTSTART;VALUE=DATE:20211124
DTEND;VALUE=DATE:20211125
DTSTAMP:20260420T213744
CREATED:20210914T073718Z
LAST-MODIFIED:20220525T070334Z
UID:9442-1637712000-1637798399@anime-hd.fr
SUMMARY:Les Contes de Terremer
DESCRIPTION:
URL:https://anime-hd.fr/event/les-contes-de-terremer/
CATEGORIES:Calendrier des sorties
END:VEVENT
BEGIN:VEVENT
DTSTART;VALUE=DATE:20211124
DTEND;VALUE=DATE:20211125
DTSTAMP:20260420T213744
CREATED:20210914T073816Z
LAST-MODIFIED:20220525T070322Z
UID:9446-1637712000-1637798399@anime-hd.fr
SUMMARY:Souvenirs de Marnie
DESCRIPTION:
URL:https://anime-hd.fr/event/souvenirs-de-marnie/
CATEGORIES:Calendrier des sorties
END:VEVENT
BEGIN:VEVENT
DTSTART;VALUE=DATE:20211124
DTEND;VALUE=DATE:20211125
DTSTAMP:20260420T213744
CREATED:20210914T073911Z
LAST-MODIFIED:20220525T070322Z
UID:9450-1637712000-1637798399@anime-hd.fr
SUMMARY:Nausicaä de la vallée du Vent
DESCRIPTION:
URL:https://anime-hd.fr/event/nausicaa-de-la-vallee-du-vent/
CATEGORIES:Calendrier des sorties
END:VEVENT
BEGIN:VEVENT
DTSTART;VALUE=DATE:20211124
DTEND;VALUE=DATE:20211125
DTSTAMP:20260420T213744
CREATED:20210914T074008Z
LAST-MODIFIED:20220525T070322Z
UID:9454-1637712000-1637798399@anime-hd.fr
SUMMARY:Si tu Tends l'oreille
DESCRIPTION:
URL:https://anime-hd.fr/event/si-tu-tends-loreille/
CATEGORIES:Calendrier des sorties
END:VEVENT
BEGIN:VEVENT
DTSTART;VALUE=DATE:20211124
DTEND;VALUE=DATE:20211125
DTSTAMP:20260420T213744
CREATED:20210914T074104Z
LAST-MODIFIED:20220525T070322Z
UID:9458-1637712000-1637798399@anime-hd.fr
SUMMARY:Le Vent se lève
DESCRIPTION:
URL:https://anime-hd.fr/event/le-vent-se-leve/
CATEGORIES:Calendrier des sorties
END:VEVENT
BEGIN:VEVENT
DTSTART;VALUE=DATE:20211124
DTEND;VALUE=DATE:20211125
DTSTAMP:20260420T213744
CREATED:20210914T074147Z
LAST-MODIFIED:20220525T070322Z
UID:9462-1637712000-1637798399@anime-hd.fr
SUMMARY:Pompoko
DESCRIPTION:
URL:https://anime-hd.fr/event/pompoko/
CATEGORIES:Calendrier des sorties
END:VEVENT
BEGIN:VEVENT
DTSTART;VALUE=DATE:20211124
DTEND;VALUE=DATE:20211125
DTSTAMP:20260420T213744
CREATED:20210914T074303Z
LAST-MODIFIED:20220525T070322Z
UID:9466-1637712000-1637798399@anime-hd.fr
SUMMARY:Porco Rosso
DESCRIPTION:
URL:https://anime-hd.fr/event/porco-rosso/
CATEGORIES:Calendrier des sorties
END:VEVENT
BEGIN:VEVENT
DTSTART;VALUE=DATE:20211124
DTEND;VALUE=DATE:20211125
DTSTAMP:20260420T213744
CREATED:20210914T074322Z
LAST-MODIFIED:20220525T070322Z
UID:9470-1637712000-1637798399@anime-hd.fr
SUMMARY:La Colline aux Coquelicots
DESCRIPTION:
URL:https://anime-hd.fr/event/la-colline-aux-coquelicots/
CATEGORIES:Calendrier des sorties
END:VEVENT
BEGIN:VEVENT
DTSTART;VALUE=DATE:20211124
DTEND;VALUE=DATE:20211125
DTSTAMP:20260420T213744
CREATED:20210914T074410Z
LAST-MODIFIED:20220525T070322Z
UID:9474-1637712000-1637798399@anime-hd.fr
SUMMARY:Arrietty\, Le Petit Monde des chapardeurs
DESCRIPTION:
URL:https://anime-hd.fr/event/arrietty-le-petit-monde-des-chapardeurs/
CATEGORIES:Calendrier des sorties
END:VEVENT
END:VCALENDAR