BEGIN:VCALENDAR
VERSION:2.0
PRODID:-//Anime HD - ECPv6.15.20//NONSGML v1.0//EN
CALSCALE:GREGORIAN
METHOD:PUBLISH
X-WR-CALNAME:Anime HD
X-ORIGINAL-URL:https://anime-hd.fr
X-WR-CALDESC:Évènements pour Anime HD
REFRESH-INTERVAL;VALUE=DURATION:PT1H
X-Robots-Tag:noindex
X-PUBLISHED-TTL:PT1H
BEGIN:VTIMEZONE
TZID:Europe/Paris
BEGIN:DAYLIGHT
TZOFFSETFROM:+0100
TZOFFSETTO:+0200
TZNAME:CEST
DTSTART:20200329T010000
END:DAYLIGHT
BEGIN:STANDARD
TZOFFSETFROM:+0200
TZOFFSETTO:+0100
TZNAME:CET
DTSTART:20201025T010000
END:STANDARD
BEGIN:DAYLIGHT
TZOFFSETFROM:+0100
TZOFFSETTO:+0200
TZNAME:CEST
DTSTART:20210328T010000
END:DAYLIGHT
BEGIN:STANDARD
TZOFFSETFROM:+0200
TZOFFSETTO:+0100
TZNAME:CET
DTSTART:20211031T010000
END:STANDARD
BEGIN:DAYLIGHT
TZOFFSETFROM:+0100
TZOFFSETTO:+0200
TZNAME:CEST
DTSTART:20220327T010000
END:DAYLIGHT
BEGIN:STANDARD
TZOFFSETFROM:+0200
TZOFFSETTO:+0100
TZNAME:CET
DTSTART:20221030T010000
END:STANDARD
END:VTIMEZONE
BEGIN:VEVENT
DTSTART;VALUE=DATE:20211102
DTEND;VALUE=DATE:20211103
DTSTAMP:20260420T212647
CREATED:20210713T080217Z
LAST-MODIFIED:20220525T070334Z
UID:9237-1635811200-1635897599@anime-hd.fr
SUMMARY:Piano Forest - Le Film - Réédition
DESCRIPTION:
URL:https://anime-hd.fr/event/piano-forest-le-film-reedition/
CATEGORIES:Calendrier des sorties
END:VEVENT
BEGIN:VEVENT
DTSTART;VALUE=DATE:20211102
DTEND;VALUE=DATE:20211103
DTSTAMP:20260420T212647
CREATED:20210716T082932Z
LAST-MODIFIED:20220525T070334Z
UID:9287-1635811200-1635897599@anime-hd.fr
SUMMARY:Piano Forest Le Film Edition Spéciale Fnac
DESCRIPTION:
URL:https://anime-hd.fr/event/piano-forest-le-film-edition-speciale-fnac/
CATEGORIES:Calendrier des sorties
END:VEVENT
BEGIN:VEVENT
DTSTART;VALUE=DATE:20211102
DTEND;VALUE=DATE:20211103
DTSTAMP:20260420T212647
CREATED:20210716T133023Z
LAST-MODIFIED:20220525T070334Z
UID:9245-1635811200-1635897599@anime-hd.fr
SUMMARY:Josée\, Le Tigre et Le Dragon
DESCRIPTION:
URL:https://anime-hd.fr/event/josee-le-tigre-et-le-dragon/
CATEGORIES:Calendrier des sorties
END:VEVENT
BEGIN:VEVENT
DTSTART;VALUE=DATE:20211102
DTEND;VALUE=DATE:20211103
DTSTAMP:20260420T212647
CREATED:20210716T133034Z
LAST-MODIFIED:20220525T070334Z
UID:9292-1635811200-1635897599@anime-hd.fr
SUMMARY:Josée\, Le Tigre et Le Dragon - Edition collector
DESCRIPTION:
URL:https://anime-hd.fr/event/josee-le-tigre-et-le-dragon-edition-collector/
CATEGORIES:Calendrier des sorties
END:VEVENT
END:VCALENDAR