BEGIN:VCALENDAR
VERSION:2.0
PRODID:-//Anime HD - ECPv6.15.20//NONSGML v1.0//EN
CALSCALE:GREGORIAN
METHOD:PUBLISH
X-ORIGINAL-URL:https://anime-hd.fr
X-WR-CALDESC:Évènements pour Anime HD
REFRESH-INTERVAL;VALUE=DURATION:PT1H
X-Robots-Tag:noindex
X-PUBLISHED-TTL:PT1H
BEGIN:VTIMEZONE
TZID:Europe/Paris
BEGIN:DAYLIGHT
TZOFFSETFROM:+0100
TZOFFSETTO:+0200
TZNAME:CEST
DTSTART:20200329T010000
END:DAYLIGHT
BEGIN:STANDARD
TZOFFSETFROM:+0200
TZOFFSETTO:+0100
TZNAME:CET
DTSTART:20201025T010000
END:STANDARD
BEGIN:DAYLIGHT
TZOFFSETFROM:+0100
TZOFFSETTO:+0200
TZNAME:CEST
DTSTART:20210328T010000
END:DAYLIGHT
BEGIN:STANDARD
TZOFFSETFROM:+0200
TZOFFSETTO:+0100
TZNAME:CET
DTSTART:20211031T010000
END:STANDARD
BEGIN:DAYLIGHT
TZOFFSETFROM:+0100
TZOFFSETTO:+0200
TZNAME:CEST
DTSTART:20220327T010000
END:DAYLIGHT
BEGIN:STANDARD
TZOFFSETFROM:+0200
TZOFFSETTO:+0100
TZNAME:CET
DTSTART:20221030T010000
END:STANDARD
END:VTIMEZONE
BEGIN:VEVENT
DTSTART;VALUE=DATE:20210824
DTEND;VALUE=DATE:20210825
DTSTAMP:20260421T021817
CREATED:20210527T125852Z
LAST-MODIFIED:20220405T205359Z
UID:9035-1629763200-1629849599@anime-hd.fr
SUMMARY:Pet
DESCRIPTION:
URL:https://anime-hd.fr/event/pet/
CATEGORIES:Calendrier des sorties
END:VEVENT
BEGIN:VEVENT
DTSTART;VALUE=DATE:20210824
DTEND;VALUE=DATE:20210825
DTSTAMP:20260421T021817
CREATED:20210601T082512Z
LAST-MODIFIED:20220405T205359Z
UID:9066-1629763200-1629849599@anime-hd.fr
SUMMARY:My Academia : Two Heroes - Steelbook
DESCRIPTION:
URL:https://anime-hd.fr/event/my-academia-two-heroes-steelbook/
CATEGORIES:Calendrier des sorties
END:VEVENT
BEGIN:VEVENT
DTSTART;VALUE=DATE:20210824
DTEND;VALUE=DATE:20210825
DTSTAMP:20260421T021817
CREATED:20210601T082853Z
LAST-MODIFIED:20220405T205359Z
UID:9063-1629763200-1629849599@anime-hd.fr
SUMMARY:Code Geass : Lelouch of The Resurrection
DESCRIPTION:
URL:https://anime-hd.fr/event/code-geass-lelouch-of-the-resurrection/
CATEGORIES:Calendrier des sorties
END:VEVENT
BEGIN:VEVENT
DTSTART;VALUE=DATE:20210824
DTEND;VALUE=DATE:20210825
DTSTAMP:20260421T021817
CREATED:20210703T071737Z
LAST-MODIFIED:20220405T205359Z
UID:9065-1629763200-1629849599@anime-hd.fr
SUMMARY:on gaku - Notre Rock
DESCRIPTION:
URL:https://anime-hd.fr/event/on-gaku-notre-rock/
CATEGORIES:Calendrier des sorties
END:VEVENT
END:VCALENDAR