BEGIN:VCALENDAR
VERSION:2.0
PRODID:-//Anime HD - ECPv6.15.20//NONSGML v1.0//EN
CALSCALE:GREGORIAN
METHOD:PUBLISH
X-ORIGINAL-URL:https://anime-hd.fr
X-WR-CALDESC:Évènements pour Anime HD
REFRESH-INTERVAL;VALUE=DURATION:PT1H
X-Robots-Tag:noindex
X-PUBLISHED-TTL:PT1H
BEGIN:VTIMEZONE
TZID:Europe/Paris
BEGIN:DAYLIGHT
TZOFFSETFROM:+0100
TZOFFSETTO:+0200
TZNAME:CEST
DTSTART:20200329T010000
END:DAYLIGHT
BEGIN:STANDARD
TZOFFSETFROM:+0200
TZOFFSETTO:+0100
TZNAME:CET
DTSTART:20201025T010000
END:STANDARD
BEGIN:DAYLIGHT
TZOFFSETFROM:+0100
TZOFFSETTO:+0200
TZNAME:CEST
DTSTART:20210328T010000
END:DAYLIGHT
BEGIN:STANDARD
TZOFFSETFROM:+0200
TZOFFSETTO:+0100
TZNAME:CET
DTSTART:20211031T010000
END:STANDARD
BEGIN:DAYLIGHT
TZOFFSETFROM:+0100
TZOFFSETTO:+0200
TZNAME:CEST
DTSTART:20220327T010000
END:DAYLIGHT
BEGIN:STANDARD
TZOFFSETFROM:+0200
TZOFFSETTO:+0100
TZNAME:CET
DTSTART:20221030T010000
END:STANDARD
END:VTIMEZONE
BEGIN:VEVENT
DTSTART;VALUE=DATE:20210615
DTEND;VALUE=DATE:20210616
DTSTAMP:20260421T053829
CREATED:20210204T085939Z
LAST-MODIFIED:20220405T205338Z
UID:8700-1623715200-1623801599@anime-hd.fr
SUMMARY:My Hero Academia Heroes Rising
DESCRIPTION:
URL:https://anime-hd.fr/event/my-hero-academia-heroes-rising-2/
CATEGORIES:Calendrier des sorties
END:VEVENT
BEGIN:VEVENT
DTSTART;VALUE=DATE:20210615
DTEND;VALUE=DATE:20210616
DTSTAMP:20260421T053829
CREATED:20210204T090035Z
LAST-MODIFIED:20220405T205338Z
UID:8701-1623715200-1623801599@anime-hd.fr
SUMMARY:A Silent Voice - Steelbook
DESCRIPTION:
URL:https://anime-hd.fr/event/a-silent-voice-2/
CATEGORIES:Calendrier des sorties
END:VEVENT
BEGIN:VEVENT
DTSTART;VALUE=DATE:20210615
DTEND;VALUE=DATE:20210616
DTSTAMP:20260421T053829
CREATED:20210204T090129Z
LAST-MODIFIED:20220405T205338Z
UID:8702-1623715200-1623801599@anime-hd.fr
SUMMARY:Château de Cagliostro - Steelbook
DESCRIPTION:
URL:https://anime-hd.fr/event/chateau-de-cagliostro/
CATEGORIES:Calendrier des sorties
END:VEVENT
BEGIN:VEVENT
DTSTART;VALUE=DATE:20210615
DTEND;VALUE=DATE:20210616
DTSTAMP:20260421T053829
CREATED:20210225T090835Z
LAST-MODIFIED:20220405T205338Z
UID:8744-1623715200-1623801599@anime-hd.fr
SUMMARY:Babylon
DESCRIPTION:
URL:https://anime-hd.fr/event/babylon/
CATEGORIES:Calendrier des sorties
END:VEVENT
END:VCALENDAR