BEGIN:VCALENDAR
VERSION:2.0
PRODID:-//Anime HD - ECPv6.15.20//NONSGML v1.0//EN
CALSCALE:GREGORIAN
METHOD:PUBLISH
X-ORIGINAL-URL:https://anime-hd.fr
X-WR-CALDESC:Évènements pour Anime HD
REFRESH-INTERVAL;VALUE=DURATION:PT1H
X-Robots-Tag:noindex
X-PUBLISHED-TTL:PT1H
BEGIN:VTIMEZONE
TZID:Europe/Paris
BEGIN:DAYLIGHT
TZOFFSETFROM:+0100
TZOFFSETTO:+0200
TZNAME:CEST
DTSTART:20200329T010000
END:DAYLIGHT
BEGIN:STANDARD
TZOFFSETFROM:+0200
TZOFFSETTO:+0100
TZNAME:CET
DTSTART:20201025T010000
END:STANDARD
BEGIN:DAYLIGHT
TZOFFSETFROM:+0100
TZOFFSETTO:+0200
TZNAME:CEST
DTSTART:20210328T010000
END:DAYLIGHT
BEGIN:STANDARD
TZOFFSETFROM:+0200
TZOFFSETTO:+0100
TZNAME:CET
DTSTART:20211031T010000
END:STANDARD
BEGIN:DAYLIGHT
TZOFFSETFROM:+0100
TZOFFSETTO:+0200
TZNAME:CEST
DTSTART:20220327T010000
END:DAYLIGHT
BEGIN:STANDARD
TZOFFSETFROM:+0200
TZOFFSETTO:+0100
TZNAME:CET
DTSTART:20221030T010000
END:STANDARD
END:VTIMEZONE
BEGIN:VEVENT
DTSTART;VALUE=DATE:20210526
DTEND;VALUE=DATE:20210527
DTSTAMP:20260421T072658
CREATED:20210326T170522Z
LAST-MODIFIED:20220405T205317Z
UID:8800-1621987200-1622073599@anime-hd.fr
SUMMARY:Goblin Slayer - Saison 1
DESCRIPTION:
URL:https://anime-hd.fr/event/goblin-slayer-saison-1/
CATEGORIES:Calendrier des sorties
END:VEVENT
BEGIN:VEVENT
DTSTART;VALUE=DATE:20210526
DTEND;VALUE=DATE:20210527
DTSTAMP:20260421T072658
CREATED:20210326T170524Z
LAST-MODIFIED:20220405T205317Z
UID:8801-1621987200-1622073599@anime-hd.fr
SUMMARY:Goblin Slayer : Goblin's Crown
DESCRIPTION:
URL:https://anime-hd.fr/event/goblin-slayer-goblins-crown/
CATEGORIES:Calendrier des sorties
END:VEVENT
BEGIN:VEVENT
DTSTART;VALUE=DATE:20210526
DTEND;VALUE=DATE:20210527
DTSTAMP:20260421T072658
CREATED:20210326T170734Z
LAST-MODIFIED:20220405T205317Z
UID:8817-1621987200-1622073599@anime-hd.fr
SUMMARY:Mobile Suit Gundam SEED - Edition Ultimate
DESCRIPTION:
URL:https://anime-hd.fr/event/mobile-suit-gundam-seed-edition-ultimate/
CATEGORIES:Calendrier des sorties
END:VEVENT
BEGIN:VEVENT
DTSTART;VALUE=DATE:20210526
DTEND;VALUE=DATE:20210527
DTSTAMP:20260421T072658
CREATED:20210331T163439Z
LAST-MODIFIED:20220405T205317Z
UID:8802-1621987200-1622073599@anime-hd.fr
SUMMARY:Mobile Suit Gundam Char's Contre Attaque - Edition standard
DESCRIPTION:
URL:https://anime-hd.fr/event/mobile-suit-gundam-chars-contre-attaque-edition-standard/
CATEGORIES:Calendrier des sorties
END:VEVENT
BEGIN:VEVENT
DTSTART;VALUE=DATE:20210526
DTEND;VALUE=DATE:20210527
DTSTAMP:20260421T072658
CREATED:20210331T171652Z
LAST-MODIFIED:20220405T205317Z
UID:8803-1621987200-1622073599@anime-hd.fr
SUMMARY:Clannad
DESCRIPTION:
URL:https://anime-hd.fr/event/clannad-saison-1/
CATEGORIES:Calendrier des sorties
END:VEVENT
END:VCALENDAR