BEGIN:VCALENDAR
VERSION:2.0
PRODID:-//Anime HD - ECPv6.15.20//NONSGML v1.0//EN
CALSCALE:GREGORIAN
METHOD:PUBLISH
X-ORIGINAL-URL:https://anime-hd.fr
X-WR-CALDESC:Évènements pour Anime HD
REFRESH-INTERVAL;VALUE=DURATION:PT1H
X-Robots-Tag:noindex
X-PUBLISHED-TTL:PT1H
BEGIN:VTIMEZONE
TZID:Europe/Paris
BEGIN:DAYLIGHT
TZOFFSETFROM:+0100
TZOFFSETTO:+0200
TZNAME:CEST
DTSTART:20200329T010000
END:DAYLIGHT
BEGIN:STANDARD
TZOFFSETFROM:+0200
TZOFFSETTO:+0100
TZNAME:CET
DTSTART:20201025T010000
END:STANDARD
BEGIN:DAYLIGHT
TZOFFSETFROM:+0100
TZOFFSETTO:+0200
TZNAME:CEST
DTSTART:20210328T010000
END:DAYLIGHT
BEGIN:STANDARD
TZOFFSETFROM:+0200
TZOFFSETTO:+0100
TZNAME:CET
DTSTART:20211031T010000
END:STANDARD
BEGIN:DAYLIGHT
TZOFFSETFROM:+0100
TZOFFSETTO:+0200
TZNAME:CEST
DTSTART:20220327T010000
END:DAYLIGHT
BEGIN:STANDARD
TZOFFSETFROM:+0200
TZOFFSETTO:+0100
TZNAME:CET
DTSTART:20221030T010000
END:STANDARD
END:VTIMEZONE
BEGIN:VEVENT
DTSTART;VALUE=DATE:20210217
DTEND;VALUE=DATE:20210218
DTSTAMP:20260421T120349
CREATED:20201119T100037Z
LAST-MODIFIED:20220405T205428Z
UID:8516-1613520000-1613606399@anime-hd.fr
SUMMARY:Boruto – Coffret 7
DESCRIPTION:
URL:https://anime-hd.fr/event/boruto-coffret-7/
CATEGORIES:Calendrier des sorties
END:VEVENT
BEGIN:VEVENT
DTSTART;VALUE=DATE:20210217
DTEND;VALUE=DATE:20210218
DTSTAMP:20260421T120349
CREATED:20201121T120914Z
LAST-MODIFIED:20220405T205318Z
UID:8535-1613520000-1613606399@anime-hd.fr
SUMMARY:Sword Art Online Alicization - Box 2/2 - Edition Collector
DESCRIPTION:
URL:https://anime-hd.fr/event/sword-art-online-alicization-box-2-2-edition-collector/
CATEGORIES:Calendrier des sorties
END:VEVENT
BEGIN:VEVENT
DTSTART;VALUE=DATE:20210217
DTEND;VALUE=DATE:20210218
DTSTAMP:20260421T120349
CREATED:20210111T121243Z
LAST-MODIFIED:20220405T205318Z
UID:8586-1613520000-1613606399@anime-hd.fr
SUMMARY:Mobile Suit Gundam ZZ Partie 1/2
DESCRIPTION:
URL:https://anime-hd.fr/event/mobile-suit-gundam-zz-partie-1-2/
CATEGORIES:Calendrier des sorties
END:VEVENT
BEGIN:VEVENT
DTSTART;VALUE=DATE:20210217
DTEND;VALUE=DATE:20210218
DTSTAMP:20260421T120349
CREATED:20210111T121245Z
LAST-MODIFIED:20220405T205318Z
UID:8587-1613520000-1613606399@anime-hd.fr
SUMMARY:Mobile Suit Gundam ZZ Partie 2/2
DESCRIPTION:
URL:https://anime-hd.fr/event/mobile-suit-gundam-zz-partie-2-2/
CATEGORIES:Calendrier des sorties
END:VEVENT
END:VCALENDAR