BEGIN:VCALENDAR
VERSION:2.0
PRODID:-//Anime HD - ECPv6.15.20//NONSGML v1.0//EN
CALSCALE:GREGORIAN
METHOD:PUBLISH
X-ORIGINAL-URL:https://anime-hd.fr
X-WR-CALDESC:Évènements pour Anime HD
REFRESH-INTERVAL;VALUE=DURATION:PT1H
X-Robots-Tag:noindex
X-PUBLISHED-TTL:PT1H
BEGIN:VTIMEZONE
TZID:Europe/Paris
BEGIN:DAYLIGHT
TZOFFSETFROM:+0100
TZOFFSETTO:+0200
TZNAME:CEST
DTSTART:20190331T010000
END:DAYLIGHT
BEGIN:STANDARD
TZOFFSETFROM:+0200
TZOFFSETTO:+0100
TZNAME:CET
DTSTART:20191027T010000
END:STANDARD
BEGIN:DAYLIGHT
TZOFFSETFROM:+0100
TZOFFSETTO:+0200
TZNAME:CEST
DTSTART:20200329T010000
END:DAYLIGHT
BEGIN:STANDARD
TZOFFSETFROM:+0200
TZOFFSETTO:+0100
TZNAME:CET
DTSTART:20201025T010000
END:STANDARD
BEGIN:DAYLIGHT
TZOFFSETFROM:+0100
TZOFFSETTO:+0200
TZNAME:CEST
DTSTART:20210328T010000
END:DAYLIGHT
BEGIN:STANDARD
TZOFFSETFROM:+0200
TZOFFSETTO:+0100
TZNAME:CET
DTSTART:20211031T010000
END:STANDARD
END:VTIMEZONE
BEGIN:VEVENT
DTSTART;VALUE=DATE:20201110
DTEND;VALUE=DATE:20201111
DTSTAMP:20260423T160756
CREATED:20200904T135039Z
LAST-MODIFIED:20220405T205629Z
UID:8280-1604966400-1605052799@anime-hd.fr
SUMMARY:5 Centimeters Per Second - Edition Steelbook® Combo Blu-Ray/CD
DESCRIPTION:
URL:https://anime-hd.fr/event/5-centimeters-per-second-edition-steelbook-combo-blu-ray-cd/
CATEGORIES:Calendrier des sorties
END:VEVENT
BEGIN:VEVENT
DTSTART;VALUE=DATE:20201110
DTEND;VALUE=DATE:20201111
DTSTAMP:20260423T160756
CREATED:20200904T135057Z
LAST-MODIFIED:20220405T205629Z
UID:8279-1604966400-1605052799@anime-hd.fr
SUMMARY:Voyage vers Agartha - Edition Steelbook Combo Blu-Ray/CD
DESCRIPTION:
URL:https://anime-hd.fr/event/voyage-vers-agartha-edition-steelbook-combo-blu-ray-cd/
CATEGORIES:Calendrier des sorties
END:VEVENT
BEGIN:VEVENT
DTSTART;VALUE=DATE:20201110
DTEND;VALUE=DATE:20201111
DTSTAMP:20260423T160756
CREATED:20200911T131806Z
LAST-MODIFIED:20220405T205629Z
UID:8305-1604966400-1605052799@anime-hd.fr
SUMMARY:Lady Oscar - Edition standard
DESCRIPTION:
URL:https://anime-hd.fr/event/lady-oscar-edition-standard/
CATEGORIES:Calendrier des sorties
END:VEVENT
BEGIN:VEVENT
DTSTART;VALUE=DATE:20201110
DTEND;VALUE=DATE:20201111
DTSTAMP:20260423T160756
CREATED:20201102T190839Z
LAST-MODIFIED:20220405T205429Z
UID:8320-1604966400-1605052799@anime-hd.fr
SUMMARY:Tokyo Ghoul - Intégrale Saisons 1 et 2 - Edition standard
DESCRIPTION:
URL:https://anime-hd.fr/event/tokyo-ghoul-integrale-saisons-1-et-2-edition-standard/
CATEGORIES:Calendrier des sorties
END:VEVENT
BEGIN:VEVENT
DTSTART;VALUE=DATE:20201110
DTEND;VALUE=DATE:20201111
DTSTAMP:20260423T160756
CREATED:20201118T193917Z
LAST-MODIFIED:20220405T205429Z
UID:8302-1604966400-1605052799@anime-hd.fr
SUMMARY:Sword of The Stranger - Edition standard
DESCRIPTION:
URL:https://anime-hd.fr/event/sword-of-the-stranger-edition-standard/
CATEGORIES:Calendrier des sorties
END:VEVENT
END:VCALENDAR